BEGIN:VCALENDAR
VERSION:2.0
PRODID:-//ChamberMaster//Event Calendar 2.0//EN
METHOD:PUBLISH
X-PUBLISHED-TTL:P3D
REFRESH-INTERVAL:P3D
CALSCALE:GREGORIAN
BEGIN:VEVENT
DTSTART;VALUE=DATE:20160820
DTEND;VALUE=DATE:20160821
TRANSP:TRANSPARENT
X-MICROSOFT-CDO-ALLDAYEVENT:TRUE
SUMMARY:*Women in Tech Demo Days\, August 20
DESCRIPTION:The Women in Tech Demo Days\, presented by Capital One and powered by AngelHack\, brings together hundreds of talented women and allies - developers\, designers\, and entrepreneurs - to compete in a one-day event designed to empower and support girls and women through technology.\n\n\n\nAttendees will be asked to present a technology solution based on a challenge presented by one nonprofit focused on empowering girls and women in each local community.\n\n\n\nAll proceeds from registration fees will be donated to the nonprofit partner at each site.\n\n\n\nSuccess at the Women in Tech Demo Days is recognized and rewarded!\n\n	Each attendee will receive a custom swag bag from Capital One\n	The winning team will receive scholarships to General Assembly with a total combined value of $10\,000 to put toward bootcamps or educational programming of their choice\n	The winning team will also have $15\,000 donated in their honor to the non-profit partner at each site that supports leadership and development of girls in the local community
X-ALT-DESC;FMTTYPE=text/html:The Women in Tech Demo Days\, presented by Capital One and powered by AngelHack\, brings together hundreds of talented women and allies - developers\, designers\, and entrepreneurs - to compete in a one-day event designed to empower and support girls and women through technology.<br />\n<br />\nAttendees will be asked to present a technology solution based on a challenge presented by one nonprofit focused on empowering girls and women in each local community.<br />\n<br />\nAll proceeds from registration fees will be donated to the nonprofit partner at each site.<br />\n<br />\nSuccess at the Women in Tech Demo Days is recognized and rewarded!\n<ul>\n	<li>Each attendee will receive a custom swag bag from Capital One</li>\n	<li>The winning team will receive scholarships to General Assembly with a total combined value of $10\,000 to put toward bootcamps or educational programming of their choice</li>\n	<li>The winning team will also have $15\,000 donated in their honor to the non-profit partner at each site that supports leadership and development of girls in the local community</li>\n</ul>\n
LOCATION:Capital One - The Garage Capital One Plano Town Center 7933 Preston Rd. Plano\, TX 75024
UID:e.9090.3246
SEQUENCE:3
DTSTAMP:20260422T110745Z
URL:https://business.techtitans.org/events/details/women-in-tech-demo-days-august-20-08-20-2016-3246
END:VEVENT

END:VCALENDAR
