BEGIN:VCALENDAR
VERSION:2.0
PRODID:-//ChamberMaster//Event Calendar 2.0//EN
METHOD:PUBLISH
X-PUBLISHED-TTL:P3D
REFRESH-INTERVAL:P3D
CALSCALE:GREGORIAN
BEGIN:VEVENT
DTSTART:20150226T133000Z
DTEND:20150226T153000Z
X-MICROSOFT-CDO-ALLDAYEVENT:FALSE
SUMMARY:What is IoT- Feb. 26
DESCRIPTION:"What is IoT" \n\nPresented by: Pete DeNagy\, Managing Principal & President\, Accommence Advisors
X-ALT-DESC;FMTTYPE=text/html:<span style="color: #ff0000\;"><span style="color: #ff0000\;"><strong><span style="color: #000000\;">&quot\;What is IoT&quot\;</span> </strong><br />\n<span style="color: #000000\;"><span style="color: #666699\;"><strong>Presented by:</strong></span> <strong>Pete DeNagy</strong>\, Managing Principal &amp\; President\, <strong>Accommence Advisors </strong></span></span></span>
LOCATION:MTBC- board room 411 Belle Grove Dr. Richardson 75080
UID:e.9090.3085
SEQUENCE:3
DTSTAMP:20260423T130113Z
URL:https://business.techtitans.org/events/details/what-is-iot-feb-26-02-26-2015-3085
END:VEVENT

END:VCALENDAR
