BEGIN:VCALENDAR
VERSION:2.0
PRODID:-//ChamberMaster//Event Calendar 2.0//EN
METHOD:PUBLISH
X-PUBLISHED-TTL:P3D
REFRESH-INTERVAL:P3D
CALSCALE:GREGORIAN
BEGIN:VEVENT
DTSTART:20150514T180000Z
DTEND:20150514T183000Z
X-MICROSOFT-CDO-ALLDAYEVENT:FALSE
SUMMARY:* Webinar - Take Control of Engineering Data & Processes - PROLIM
DESCRIPTION:PROLIM is proud to announce that they will be co-hosting a webinar - Take Control of Engineering Data & Processes promoting Siemens Teamcenter product.  In this half hour webinar we'll cover essential PDM capabilities that streamline your design release process and become your competitive advantage.\n\nRegister Now\n\nThis Webinar will focus on the following key benefits:\n\n\n	Seamless sharing of data from multiple sources\n	Elimination of rework caused by confusion about product status\n	Easy to find and reuse design data   stop recreating it\n	Lightweight\, accurate 3-D visualization and collaboration\n	On-time project completion without the last minute scramble to get things done\n\n\nJoin the live and interactive webinar on May 14\, 2015 at 1:00 PM (EST)to discover how PDM can ensure accurate CAD data for the entire team and streamline release processes. See for yourself how PDM helps companies overcome challenges in today's market and leverages PDM as a competitive advantage.\n\nPROLIM Global Corporation\n\nPROLIM is a leading provider of end-to-end IT\, PLM Solutions and Engineering Services and Solutions for Global 1000 companies. PROLIM aims to help customers to improve their profitability and efficiency & accomplish their PLM business goals by providing high-value technology consulting\, staffing\, and project management outsourcing services\n\n \n\nMedia Contact\n\nRich Solti\n\nPROLIM Corporation\n\nrich.solti@prolim.com\n\n(248) 522-6044
X-ALT-DESC;FMTTYPE=text/html:<p style="text-align:justify"><span style="font-family:tahoma">PROLIM is proud to announce that they will be co-hosting a webinar - Take Control of Engineering Data &amp\; Processes&nbsp\;promoting Siemens Teamcenter product. &nbsp\;In this half hour webinar we&rsquo\;ll cover essential PDM capabilities that streamline your design release process and become your competitive advantage.</span></p>\n\n<h2 style="text-align:justify"><span style="font-family:tahoma"><strong><a class="caption" href="https://www.plm.automation.siemens.com/en_us/campaigns/single_topic.cfm?Component=236828&amp\;ComponentTemplate=186312" style="margin: 0px\; color: rgb(78\, 78\, 78)\; text-decoration: none\;"><span style="color:rgb(255\, 0\, 0)">Register Now</span></a></strong></span></h2>\n\n<p style="text-align:justify"><span style="font-family:tahoma"><strong>This Webinar will focus on the following key benefits:</strong></span></p>\n\n<ul>\n	<li style="text-align:left"><span style="font-family:tahoma">Seamless sharing of data from multiple sources</span></li>\n	<li style="text-align:left"><span style="font-family:tahoma">Elimination of rework caused by confusion about product status</span></li>\n	<li style="text-align:left"><span style="font-family:tahoma">Easy to find and reuse design data &ndash\; stop recreating it</span></li>\n	<li style="text-align:left"><span style="font-family:tahoma">Lightweight\, accurate 3-D visualization and collaboration</span></li>\n	<li style="text-align:left"><span style="font-family:tahoma">On-time project completion without the last minute scramble to get things done</span></li>\n</ul>\n\n<p style="text-align:justify"><span style="font-family:tahoma">Join the live and interactive webinar on May 14\, 2015 at 1:00 PM (EST)to discover how PDM can ensure accurate CAD data for the entire team and streamline release processes. See for yourself how PDM helps companies overcome challenges in today&rsquo\;s market and leverages PDM as a competitive advantage.</span></p>\n\n<h3><strong><span style="font-family:tahoma"><span style="color:rgb(255\, 0\, 0)">PROLIM Global Corporation</span></span></strong></h3>\n\n<p style="text-align:justify"><span style="font-family:tahoma">PROLIM is a leading provider of&nbsp\;end-to-end IT\, <a href="http://www.prolim.com/index.php/plm-solutions"><span style="color:#1F497D">PLM Solutions</span></a> and&nbsp\;<a href="http://www.prolim.com/index.php/services/engg-design.html"><span style="color:#1F497D">Engineering Services</span></a>&nbsp\;and Solutions for Global 1000 companies. PROLIM aims to help customers to improve their profitability and efficiency &amp\; accomplish their <a href="http://www.prolim.com/"><span style="color:#1F497D">PLM</span></a> business goals by providing high-value technology consulting\, staffing\, and project management outsourcing services</span><br />\n&nbsp\;</p>\n\n<p style="text-align:justify"><strong><span style="color:rgb(255\, 0\, 0)">Media Contact</span></strong></p>\n\n<p style="text-align:justify"><span style="font-family:tahoma">Rich Solti<br />\nPROLIM Corporation<br />\n<a href="mailto:rich.solti@prolim.com" style="margin: 0px\; color: rgb(78\, 78\, 78)\; text-decoration: none\;">rich.solti@prolim.com</a><br />\n(248) 522-6044</span></p>\n
LOCATION:Online webinar
UID:e.9090.3115
SEQUENCE:3
DTSTAMP:20260423T083707Z
URL:https://business.techtitans.org/events/details/webinar-take-control-of-engineering-data-processes-prolim-05-14-2015-3115
END:VEVENT

END:VCALENDAR
