BEGIN:VCALENDAR
VERSION:2.0
PRODID:-//ChamberMaster//Event Calendar 2.0//EN
METHOD:PUBLISH
X-PUBLISHED-TTL:P3D
REFRESH-INTERVAL:P3D
CALSCALE:GREGORIAN
BEGIN:VEVENT
DTSTART:20140227T010000Z
DTEND:20140227T030000Z
X-MICROSOFT-CDO-ALLDAYEVENT:FALSE
SUMMARY:UTD ATEC with MTBC Lecture\, Feb. 26
DESCRIPTION:CHRISTIAN BELADY\, general manager of Data Center Services for Microsoft's Global Foundation Services and a UT Dallas alumnus\, will give the Feb. 26 lecture. He oversees all aspects of Microsoft's global data center network\, including the expansion of new data centers and the development of new standards in energy efficiency that have been adopted across the industry. Belady earned a master's degree in international management studies at UT Dallas in 1990 and received the University's Distinguished Alumni Award in 2010.
X-ALT-DESC;FMTTYPE=text/html:CHRISTIAN BELADY\, general manager of Data Center Services for Microsoft&rsquo\;s Global Foundation Services and a UT Dallas alumnus\, will give the Feb. 26 lecture. He oversees all aspects of Microsoft&rsquo\;s global data center network\, including the expansion of new data centers and the development of new standards in energy efficiency that have been adopted across the industry. Belady earned a master&rsquo\;s degree in international management studies at UT Dallas in 1990 and received the University&#39\;s Distinguished Alumni Award in 2010.
LOCATION:ATEC Building The University of Texas at Dallas 800 West Campbell Road Richardson\, Texas 75080-3021 (972) 883-2111
UID:e.9090.2980
SEQUENCE:3
DTSTAMP:20260424T075754Z
URL:https://business.techtitans.org/events/details/utd-atec-with-mtbc-lecture-feb-26-02-26-2014-2980
END:VEVENT

END:VCALENDAR
