BEGIN:VCALENDAR
VERSION:2.0
PRODID:-//ChamberMaster//Event Calendar 2.0//EN
METHOD:PUBLISH
X-PUBLISHED-TTL:P3D
REFRESH-INTERVAL:P3D
CALSCALE:GREGORIAN
BEGIN:VEVENT
DTSTART:20160428T210000Z
DTEND:20160429T000000Z
X-MICROSOFT-CDO-ALLDAYEVENT:FALSE
SUMMARY:* UT Dallas Applied Research Center Grand Opening- April 28
DESCRIPTION:The University of Texas at Dallas Applied Research Center Grand Opening!\n \n\nThe Applied Research Center at The University of Texas at Dallas is a problem solving organization that delivers prototypes\, software\, systems and engineering know-how in five core competency areas that include:\n\n \n\nLife Sciences\n\nInformation and Data Systems\n\nElectronics\, Optics and Materials\n\nCommunications\, Radar and RF Systems\n\nPower and Energy\n\n \nEach core competency is supported by a professional budget\, schedule and deliverable driven technical staff\, state-of-the-art-equipment and laboratories.\n\n\n\nThe ARC staff have access to the full range of faculty and ITAR and Classified capable facilities across the university\, including a large and growing pool of graduate and undergraduate students.\n\n\n\n(Light refreshments will be served!)\n\n\n\nClick here to view the parking map
X-ALT-DESC;FMTTYPE=text/html:<div style="text-align: center\;"><span style="color:#B22222\;"><span style="font-size:16px\;"><strong>The University of Texas at Dallas Applied Research Center Grand Opening!</strong></span></span></div>\n&nbsp\;\n\n<div style="text-align: center\;"><span style="color:#000000\;">The Applied Research Center at The University of Texas at Dallas is a problem solving organization that delivers&nbsp\;prototypes\,&nbsp\;software\, systems and engineering know-how in five core competency areas that include:</span><br />\n&nbsp\;</div>\n\n<div style="text-align: center\;"><span style="color:#000000\;">Life Sciences<br />\nInformation and Data Systems<br />\nElectronics\, Optics and Materials<br />\nCommunications\, Radar and RF Systems<br />\nPower and Energy</span><br />\n&nbsp\;</div>\n<span style="color:#000000\;">Each core competency is supported by a professional budget\, schedule and deliverable driven technical staff\,&nbsp\;state-of-the-art-equipment and laboratories.<br />\n<br />\nThe ARC staff have access to the full range of faculty and ITAR and Classified capable facilities across the&nbsp\;university\, including a large and growing pool of graduate and undergraduate students.<br />\n<br />\n(Light refreshments will be served!)<br />\n<br />\n<a href="https://chambermaster.blob.core.windows.net/userfiles/UserFiles/chambers/9090/File/ARCOpenHouseInvitation.pdf">Click here</a> to view the parking map</span>
LOCATION:Research Operations Center West (ROW) 17217 Waterview Parkway Dallas\, TX 75252 Click here to view the parking map
UID:e.9090.3196
SEQUENCE:3
DTSTAMP:20260422T155501Z
URL:https://business.techtitans.org/events/details/ut-dallas-applied-research-center-grand-opening-april-28-04-28-2016-3196
END:VEVENT

END:VCALENDAR
