BEGIN:VCALENDAR
VERSION:2.0
PRODID:-//ChamberMaster//Event Calendar 2.0//EN
METHOD:PUBLISH
X-PUBLISHED-TTL:P3D
REFRESH-INTERVAL:P3D
CALSCALE:GREGORIAN
BEGIN:VEVENT
DTSTART:20170428T230000Z
DTEND:20170429T020000Z
X-MICROSOFT-CDO-ALLDAYEVENT:FALSE
SUMMARY:*UNT Computer Science & Engineering 45 Anniversary\, April 28
DESCRIPTION:As one of the oldest computer science programs in the nation\, the UNT College of Engineering's Department of Computer Science and Engineering will celebrate its 45th anniversary April 28\, 2017\, at Apogee Stadium. The event also will highlight the 25th anniversary of the Laboratory for Recreational Computing.\n\nThe celebration begins at 6 p.m. with a social hour and features dinner and an award ceremony at 7 p.m. honoring past alumni and current students. Tickets are $10.\n\nFor more information or to register\, visit the registration page.
X-ALT-DESC;FMTTYPE=text/html:<p>As one of the oldest computer science programs in the nation\, the UNT College of Engineering&rsquo\;s Department of Computer Science and Engineering will celebrate its 45th anniversary April 28\, 2017\, at Apogee Stadium. The event also will highlight the 25th anniversary of the Laboratory for Recreational Computing.</p>\n\n<p>The celebration begins at 6 p.m. with a social hour and features dinner and an award ceremony at 7 p.m. honoring past alumni and current students. Tickets are $10.</p>\n\n<p>For more information or to register\, visit the <a href="http://computerscience.engineering.unt.edu/celebrate45years">registration page</a>.</p>\n
LOCATION:University of North Texas Apogee Stadium
UID:e.9090.3322
SEQUENCE:3
DTSTAMP:20260421T211710Z
URL:https://business.techtitans.org/events/details/unt-computer-science-engineering-45-anniversary-april-28-3322
END:VEVENT

END:VCALENDAR
