BEGIN:VCALENDAR
VERSION:2.0
PRODID:-//ChamberMaster//Event Calendar 2.0//EN
METHOD:PUBLISH
X-PUBLISHED-TTL:P3D
REFRESH-INTERVAL:P3D
CALSCALE:GREGORIAN
BEGIN:VEVENT
DTSTART:20160415T130000Z
DTEND:20160415T143000Z
X-MICROSOFT-CDO-ALLDAYEVENT:FALSE
SUMMARY:Unmanned Aerial Systems (Drone) Forum- April 15
DESCRIPTION:"Drones for societal benefit"\n\nFeaturing Dr. David Lary adjunct professor at UTD\n\n \n\nThe talk will introduce several applications from the Multi-Scale Integrated Intelligent Interactive Sensing Center (MINTS) where we use aerial vehicles for societal benefit. These include applications in air quality\, water resources\, and hyperspectral imaging relevant to agriculture\, monitoring infrastructure\, detecting gas leaks and geophysical surveying. MINTS develops intelligent sensing systems for interdisciplinary applications. MINTS affiliates include experts from the UTD departments of physics\, geosciences\, electrical engineering\, and computer science with a broad range of background expertise. The vision of MINTS is a holistic intelligent synergy of integrated targeted observations from multiple platforms on multiple spatial and temporal scales\, together with state of the art compression and visualization systems for the distribution and comprehensive analysis of complete datasets. By combining instruments on satellites and robotic vehicles (in air\, land\, and sea) that can be directed in real time we can capture observations on multiple parameters on multiple spatial and temporal scales appropriate to a wide range of problems. This provides a high level of situational awareness.
X-ALT-DESC;FMTTYPE=text/html:<div _mce_style="font-size: 10pt\;" style="color: rgb(0\, 0\, 0)\; font-family: Arial\; line-height: normal\; font-size: 10pt\;"><strong>&quot\;Drones for societal benefit&quot\;</strong></div>\n\n<div _mce_style="font-size: 10pt\;" style="color: rgb(0\, 0\, 0)\; font-family: Arial\; line-height: normal\; font-size: 10pt\;">Featuring&nbsp\;<b>Dr. David Lary&nbsp\;</b>adjunct professor at UTD</div>\n\n<div _mce_style="font-size: 10pt\;" style="color: rgb(0\, 0\, 0)\; font-family: Arial\; line-height: normal\; font-size: 10pt\;">&nbsp\;</div>\n\n<div _mce_style="font-size: 10pt\;" style="color: rgb(0\, 0\, 0)\; font-family: Arial\; line-height: normal\; font-size: 10pt\;">The talk will introduce several applications from the&nbsp\;Multi-Scale Integrated Intelligent Interactive Sensing Center (MINTS) where we use aerial vehicles for societal benefit. These include applications in air quality\, water resources\, and hyperspectral imaging relevant to agriculture\, monitoring infrastructure\, detecting gas leaks and geophysical surveying. MINTS develops intelligent sensing systems for interdisciplinary applications. MINTS affiliates include&nbsp\;experts from the UTD departments of physics\, geosciences\, electrical engineering\, and computer science with a broad range of background expertise. The vision of MINTS is a holistic intelligent synergy of integrated targeted observations from multiple platforms on multiple spatial and temporal scales\, together with state of the art&nbsp\;compression and visualization systems for the distribution and comprehensive analysis of complete datasets. By combining instruments on satellites and robotic vehicles (in air\, land\,&nbsp\;and sea) that can be directed in real time we can capture observations on multiple parameters on multiple spatial and temporal scales appropriate to a wide range of problems. This&nbsp\;provides a high level of situational awareness.</div>\n
LOCATION:Tech Titans board room 411 Belle Grove Dr. Richardson 75080
UID:e.9090.3200
SEQUENCE:3
DTSTAMP:20260422T155347Z
URL:https://business.techtitans.org/events/details/unmanned-aerial-systems-drone-forum-april-15-04-15-2016-3200
END:VEVENT

END:VCALENDAR
