BEGIN:VCALENDAR
VERSION:2.0
PRODID:-//ChamberMaster//Event Calendar 2.0//EN
METHOD:PUBLISH
X-PUBLISHED-TTL:P3D
REFRESH-INTERVAL:P3D
CALSCALE:GREGORIAN
BEGIN:VEVENT
DTSTART:20160225T170000Z
DTEND:20160225T191500Z
X-MICROSOFT-CDO-ALLDAYEVENT:FALSE
SUMMARY:*TSPE Engineers Week Luncheon\, Feb. 25
DESCRIPTION:Join the Texas Society of Professional Engineers at the 9th annual Engineers Week Awards Luncheon where they will honor Engineers of the Year\, network with the LARGEST audience of professional engineers in Texas\, and raise scholarship funds for the engineers of tomorrow! \n\n\n\nKeynote speaker Colleen Walker\n\nCEO\, Perot Museum of Nature and Science
X-ALT-DESC;FMTTYPE=text/html:Join the Texas Society of Professional Engineers at the 9th annual Engineers Week Awards Luncheon where they will honor Engineers of the Year\, network with the LARGEST audience of professional engineers in Texas\, and raise scholarship funds for the engineers of tomorrow!&nbsp\;<br />\n<br />\nKeynote speaker&nbsp\;Colleen Walker<br />\nCEO\, Perot Museum of Nature and Science &nbsp\; &nbsp\;
LOCATION:Renaissance Richardson Hotel 900 East Lookout Drive Richardson\, TX 75082
UID:e.9090.3170
SEQUENCE:3
DTSTAMP:20260422T205917Z
URL:https://business.techtitans.org/events/details/tspe-engineers-week-luncheon-feb-25-02-25-2016-3170
END:VEVENT

END:VCALENDAR
