BEGIN:VCALENDAR
VERSION:2.0
PRODID:-//ChamberMaster//Event Calendar 2.0//EN
METHOD:PUBLISH
X-PUBLISHED-TTL:P3D
REFRESH-INTERVAL:P3D
CALSCALE:GREGORIAN
BEGIN:VEVENT
DTSTART;VALUE=DATE:20170605
DTEND;VALUE=DATE:20170608
TRANSP:TRANSPARENT
X-MICROSOFT-CDO-ALLDAYEVENT:TRUE
SUMMARY:*TIA2017 Conference - June 5-7
DESCRIPTION:The Telecommunications Industry Association executive Connectivity Jam (June 5-7 in Dallas\, TX) hosted by TIA and Panasonic\, presents a lively\, outcomes-focused discussion forum among leading technologists and strategists. IDC\, TIA's analyst partner\, will moderate discussion in each of the three "Streams"   Transforming Connectivity Infrastructure\; Operating Next-Gen Networks\; and Connecting the Internet of Things. Learn how your company can drive and thrive in the disruptive environment of today's connectivity arena.
X-ALT-DESC;FMTTYPE=text/html:<p><span style="font-family:&quot\;Calibri&quot\;\,&quot\;sans-serif&quot\;">The Telecommunications Industry Association <span style="font-size:11.0pt\;">executive Connectivity Jam (June 5-7 in Dallas\, TX) hosted by TIA and Panasonic\, presents a lively\, outcomes-focused discussion forum among leading technologists and strategists. IDC\, TIA&rsquo\;s analyst partner\, will moderate discussion in each of the three &ldquo\;Streams&rdquo\; &ndash\; Transforming Connectivity Infrastructure\; Operating Next-Gen Networks\; and Connecting the Internet of Things. Learn how your company can drive and thrive in the disruptive environment of today&rsquo\;s connectivity arena.</span></span><span style="font-family:&quot\;Calibri&quot\;\,&quot\;sans-serif&quot\;"><o:p></o:p></span></p>\n
LOCATION:Renaissance Dallas Hotel 2222 N. Stemmons Fwy Dallas\, Texas\, 75207
UID:e.9090.3327
SEQUENCE:3
DTSTAMP:20260421T184319Z
URL:https://business.techtitans.org/events/details/tia2017-conference-june-5-7-3327
END:VEVENT

END:VCALENDAR
