BEGIN:VCALENDAR
VERSION:2.0
PRODID:-//ChamberMaster//Event Calendar 2.0//EN
METHOD:PUBLISH
X-PUBLISHED-TTL:P3D
REFRESH-INTERVAL:P3D
CALSCALE:GREGORIAN
BEGIN:VEVENT
DTSTART:20150601T150000Z
DTEND:20150604T223000Z
X-MICROSOFT-CDO-ALLDAYEVENT:FALSE
SUMMARY:TIA2015 Conference - June 2-4
DESCRIPTION:The Telecommunications Industry Association will host TIA 2015: The Network of the Future   the industry's leading conference focused on the most critical issues facing global communications   June 2-4 in Dallas\, Texas. Over three days\, TIA 2015 will gather global thought leaders\, top executives\, and policy decision-makers for a unique look at mobile networks\, big data\, tech policy\, emerging technologies\, new business models and more. The conference will also spotlight new services and solutions that are allowing network operators and enterprises to more powerfully connect with customers\, increase revenues and take advantage of new profit pools. Register today at www.tia2015.org
X-ALT-DESC;FMTTYPE=text/html:<p><span style="font-family:&quot\;Calibri&quot\;\,&quot\;sans-serif&quot\;">The Telecommunications Industry Association will host TIA 2015: The Network of the Future</span> <span style="font-family:&quot\;Calibri&quot\;\,&quot\;sans-serif&quot\;">&ndash\; the industry&rsquo\;s leading conference focused on the most critical issues facing global communications &ndash\; June 2-4 in Dallas\, Texas. Over three days\, TIA 2015 will gather global thought leaders\, top executives\, and policy decision-makers for a unique look at mobile networks\, big data\, tech policy\, emerging technologies\, new business models and more. The conference will also spotlight new services and solutions that are allowing network operators and enterprises to more powerfully connect with customers\, increase revenues and take advantage of new profit pools. Register today at </span><a href="http://www.tia2015.org"><span style="font-family:&quot\;Calibri&quot\;\,&quot\;sans-serif&quot\;">www.tia2015.org</span></a><span style="font-family:&quot\;Calibri&quot\;\,&quot\;sans-serif&quot\;"><o:p></o:p></span></p>\n
LOCATION:Hyatt Regency Dallas 300 Reunion Blvd. Dallas\, TX 75207
UID:e.9090.3122
SEQUENCE:3
DTSTAMP:20260423T071212Z
URL:https://business.techtitans.org/events/details/tia2015-conference-june-2-4-06-01-2015-3122
END:VEVENT

END:VCALENDAR
