BEGIN:VCALENDAR
VERSION:2.0
PRODID:-//ChamberMaster//Event Calendar 2.0//EN
METHOD:PUBLISH
X-PUBLISHED-TTL:P3D
REFRESH-INTERVAL:P3D
CALSCALE:GREGORIAN
BEGIN:VEVENT
DTSTART:20150212T150000Z
DTEND:20150213T013000Z
X-MICROSOFT-CDO-ALLDAYEVENT:FALSE
SUMMARY:Texas Technology Day - Feb 12
DESCRIPTION:The Advocacy Team invites you to join them for Texas Technology Day in Austin. This event is an excellent opportunity to meet with state legislators and promote issues that impact the North Texas high-tech community.\n\n\n\nParticipants will visit with legislators in the morning\, followed by lunch with guest speakers and afternoon briefings from senators and representatives. In the evening\, MTBC will join the Texas 84th Legislative Session Welcome Reception hosted by TechAmerica at Google Fiber Space in downtown Austin.\n\n\n\nJoin us as we remind the Texas Legislature how important technology is to the future and economic development of our great state. The MTBC is the voice of business for the North Texas high-tech community. We are actively involved in the public policy process\, urging legislators to introduce and pass legislation that benefits high-tech companies.
X-ALT-DESC;FMTTYPE=text/html:The Advocacy Team invites you to join them for Texas Technology Day in Austin. This event is an excellent opportunity to meet with state legislators and promote issues that impact the North Texas high-tech community.<br />\n<br />\nParticipants will visit with legislators in the morning\, followed by lunch with guest speakers and afternoon briefings from senators and representatives. In the evening\, MTBC will join the Texas 84th Legislative Session Welcome Reception hosted by TechAmerica at Google Fiber Space in downtown Austin.<br />\n<br />\nJoin us as we remind the Texas Legislature how important technology is to the future and economic development of our great state. The MTBC is the voice of business for the North Texas high-tech community. We are actively involved in the public policy process\, urging legislators to introduce and pass legislation that benefits high-tech companies.
LOCATION:Room E2.020 Texas State Capitol 1100 Congress Avenue\, Austin\, TX 78701 Google Map | Capitol Maps & Floorplans
UID:e.9090.3079
SEQUENCE:3
DTSTAMP:20260423T125945Z
URL:https://business.techtitans.org/events/details/texas-technology-day-feb-12-02-12-2015-3079
END:VEVENT

END:VCALENDAR
