BEGIN:VCALENDAR
VERSION:2.0
PRODID:-//ChamberMaster//Event Calendar 2.0//EN
METHOD:PUBLISH
X-PUBLISHED-TTL:P3D
REFRESH-INTERVAL:P3D
CALSCALE:GREGORIAN
BEGIN:VEVENT
DTSTART:20160526T190000Z
DTEND:20160526T213000Z
X-MICROSOFT-CDO-ALLDAYEVENT:FALSE
SUMMARY:*Texas Innovation Leaders Forum\, PWC-May 26
DESCRIPTION:Click here for the event flyer and more information.\n\nPwC is pleased to invite you to our upcoming 5th Texas Innovation Leaders Forum: Innovation Dollars on the Move on Thursday\, May 26 at the Nasher Sculpture Center from 2:00pm - 4:30pm. We encourage you to bring a friend or colleague in the industry to join us. This year\, Strategy&\, PwC's strategy consulting business\, examined the R&D footprint of some of the world's top companies to understand how much they are spending on R&D\, where and how that spend has shifted since our last study on this topic in 2008. We found that the globalization of R&D has become the norm and that the flow of R&D funds is shifting away from Europe and aggressively moving towards Asia. The Global Innovation 1000 studies of the past have long confirmed it's not how much you spend\, but how you spend it\, and now it is also where you spend it that determines your success. We are pleased to be welcoming back Volker Staack\, one of our Innovation Leaders from Strategy&\, and co-author of the Innovation 1000 Study. We are excited to announce that Eric van Gemeren\, VP of R&D at Flowserve\, will be joining our speaker lineup. Eric has been developing and leading high-performance teams in high-tech organizations for more than 25 years. In his role\, Eric is responsible for the worldwide development of new products and has overall accountability for managing Flowserve's global portfolio of investments in emerging technologies that are applied across the entire product range.
X-ALT-DESC;FMTTYPE=text/html:<span style="font-size:16px\;"><strong><a href="https://chambermaster.blob.core.windows.net/userfiles/UserFiles/chambers/9090/File/SpringInnovationInvitation.pdf">Click here</a></strong> for the event flyer and more information.</span><br />\nPwC is pleased to invite you to our upcoming 5th Texas Innovation Leaders Forum: Innovation Dollars on the Move on Thursday\, May 26 at the Nasher Sculpture Center from 2:00pm - 4:30pm. We encourage you to bring a friend or colleague in the industry to join us. This year\, Strategy&amp\;\, PwC&#39\;s strategy consulting business\, examined the R&amp\;D footprint of some of the world&#39\;s top companies to understand how much they are spending on R&amp\;D\, where and how that spend has shifted since our last study on this topic in 2008. We found that the globalization of R&amp\;D has become the norm and that the flow of R&amp\;D funds is shifting away from Europe and aggressively moving towards Asia. The Global Innovation 1000 studies of the past have long confirmed it&rsquo\;s not how much you spend\, but how you spend it\, and now it is also where you spend it that determines your success. We are pleased to be welcoming back Volker Staack\, one of our Innovation Leaders from Strategy&amp\;\, and co-author of the Innovation 1000 Study. We are excited to announce that Eric van Gemeren\, VP of R&amp\;D at Flowserve\, will be joining our speaker lineup. Eric has been developing and leading high-performance teams in high-tech organizations for more than 25 years. In his role\, Eric is responsible for the worldwide development of new products and has overall accountability for managing Flowserve&rsquo\;s global portfolio of investments in emerging technologies that are applied across the entire product range.&nbsp\;
LOCATION:Nasher Sculpture Center 2001 Flora Street\, Dallas\, TX 75201
UID:e.9090.3213
SEQUENCE:3
DTSTAMP:20260422T141449Z
URL:https://business.techtitans.org/events/details/texas-innovation-leaders-forum-pwc-may-26-05-26-2016-3213
END:VEVENT

END:VCALENDAR
