BEGIN:VCALENDAR
VERSION:2.0
PRODID:-//ChamberMaster//Event Calendar 2.0//EN
METHOD:PUBLISH
X-PUBLISHED-TTL:P3D
REFRESH-INTERVAL:P3D
CALSCALE:GREGORIAN
BEGIN:VEVENT
DTSTART:20180621T223000Z
DTEND:20180622T000000Z
X-MICROSOFT-CDO-ALLDAYEVENT:FALSE
SUMMARY:Tech Titans Next Gen Happy Hour - June 21
DESCRIPTION:Join the Tech Titans young professionals group for their first monthly networking happy hour!  Free to attend.\n\n\n\nRegistration is required to be eligible for a door prize drawing!
X-ALT-DESC;FMTTYPE=text/html:<span _mce_style="color: #000000\;" color="#000000" style="font-family: Arial\; font-size: 13.3333px\; line-height: normal\; color: rgb(0\, 0\, 0)\;">Join the Tech Titans young professionals group for their first monthly networking happy hour!</span><span _mce_style="color: #000000\; font-size: 10pt\;" style="font-family: Arial\; font-size: 10pt\; line-height: normal\; color: rgb(0\, 0\, 0)\;">&nbsp\; Free to attend.<br />\n<br />\n<strong>Registration is required to be eligible for a door prize drawing!</strong></span>
LOCATION:Lazy Dog Restaurant 5100 Belt Line Rd.\, 500 Dallas\, 75254
UID:e.9090.4423
SEQUENCE:3
DTSTAMP:20260420T210456Z
URL:https://business.techtitans.org/events/details/tech-titans-next-gen-happy-hour-june-21-4423
END:VEVENT

END:VCALENDAR
