BEGIN:VCALENDAR
VERSION:2.0
PRODID:-//ChamberMaster//Event Calendar 2.0//EN
METHOD:PUBLISH
X-PUBLISHED-TTL:P3D
REFRESH-INTERVAL:P3D
CALSCALE:GREGORIAN
BEGIN:VEVENT
DTSTART:20160812T160000Z
DTEND:20160812T183000Z
X-MICROSOFT-CDO-ALLDAYEVENT:FALSE
SUMMARY:Tech Titans Innovators Luncheon - 2016 - August 12
DESCRIPTION:INNOVATORS LUNCHEON\n\n \n\nJoin us as the seven finalists nominated for awards in the Tech Titans Innovation categories explain how their innovation\, achievement and breakthrough technological applications are changing the landscape of North Texas.\n\n\n \n\nCORPORATE INNOVATION AWARD CATEGORY\n\n \n\nThe Tech Titan Corporate Innovation Award recognizes a company with 100 or more employees in the Metroplex for outstanding innovation and unique accomplishments through recent or potential breakthrough technology or approach within the technology and communications industry.\n\n  \n\n\n\nMartin Marietta\n\nMasergy Communications\, Inc.\n\nNokia\n \n\n   \n\nEMERGING COMPANY INNOVATION AWARD CATEGORY\n\n \n\nThe Tech Titan Emerging Company Innovation Award recognizes a company with less than 100 employees in the Metroplex for outstanding innovation and unique accomplishments through recent or potential breakthrough technology or approach within the technology and communications industry.\n\n  \n\n\nBottle Rocket\n\nBrainspace Corp.\n\nDialexa\n\nTango Analytics\n \n\nRegistration Policy:\n\nPayment is necessary at the time of reservations. Due to catering requirements we must charge for reservations not canceled three days prior to the event.  Unclaimed reservations during the event will be relinquished at noon. Walk-in customers will be seated based on space availability.\n\n\n\nDIETARY NEEDS: To those customers with special dietary requirements\, please contact Events Team directly prior to registration deadline or place your specific dietary needs in the 'note's section' when placing your online reservation.  Additional fees may apply.
X-ALT-DESC;FMTTYPE=text/html:<p class="MsoNormal" style="margin: 0pt\; font-family: Arial\; text-align: center\;"><span style="font-size:14px\;"><span style="font-family: Arial\;"><strong><font color="#323276">INNOVATORS LUNCHEON</font></strong></span></span></p>\n\n<p class="MsoNormal" style="margin: 0pt\; font-family: Arial\; text-align: center\;"><font size="2"><span style="FONT-FAMILY: Arial\; mso-fareast-language: JA"><strong>&nbsp\;</strong></span></font></p>\n\n<p class="MsoNormal" style="margin: 0pt\; font-family: Arial\; text-align: center\;"><span style="font-size:12px\;"><span style="font-family: Arial\;"><span style="font-family: Arial\;">Join us as the seven finalists nominated for awards in the Tech Titans&nbsp\;Innovation categories explain how their innovation\, achievement and breakthrough technological applications are changing the landscape of North Texas.</span></span></span></p>\n<br />\n<font size="2">&nbsp\;</font>\n\n<p class="MsoNormal" style="margin: 0pt\; font-family: Arial\; text-align: center\;"><span style="font-size:14px\;"><span style="font-family: Arial\;"><strong><font color="#323276">CORPORATE&nbsp\;INNOVATION AWARD CATEGORY</font></strong></span></span><br />\n&nbsp\;</p>\n\n<p class="MsoBodyText3" style="margin: 0in 0in 0pt\; text-align: center\;"><span style="font-size:12px\;"><span style="font-family: Arial\;"><span style="font-family: Arial\; font-weight: normal\;">The </span><span style="font-family: Arial\;"><strong>Tech Titan Corporate Innovation Award</strong></span><span style="font-family: Arial\; font-weight: normal\;"> recognizes a company</span><span style="font-family: Arial\;"><strong> with 100 or more employees</strong></span><span style="font-family: Arial\; font-weight: normal\;"> in the Metroplex for outstanding innovation and unique accomplishments through recent or potential breakthrough technology or approach within the technology and communications industry.</span></span></span></p>\n\n<p align="left" class="MsoBodyText3" style="TEXT-ALIGN: left\; MARGIN: 0in 0in 0pt"><span style="font-size:12px\;"><span style="font-family: Arial\;">&nbsp\;<span style="font-family: Arial\; font-weight: normal\;"> </span></span></span></p>\n\n<p class="MsoNormal" style="margin: 0pt\; font-family: Arial\; text-align: center\;"><br />\n<strong>Martin Marietta<br />\nMasergy&nbsp\;Communications\, Inc.<br />\nNokia</strong></p>\n&nbsp\;\n\n<p align="center" class="MsoNormal" style="MARGIN: 0pt\; FONT-FAMILY: Arial\; mso-margin-bottom-alt: auto"><span style="FONT-FAMILY: Arial\; mso-fareast-language: JA">&nbsp\;&nbsp\;<span style="FONT-FAMILY: Arial\; mso-fareast-language: JA"> </span></span></p>\n\n<p class="MsoNormal" style="margin: 0pt\; font-family: Arial\; text-align: center\;"><span style="font-size:14px\;"><span style="font-family: Arial\;"><strong><font color="#323276">EMERGING COMPANY&nbsp\;INNOVATION AWARD CATEGORY</font></strong></span></span><br />\n&nbsp\;</p>\n\n<p class="MsoBodyText3" style="margin: 0in 0in 0pt\; text-align: center\;"><span style="font-size:12px\;"><span style="font-family: Arial\;"><strong><span style="font-family: Arial\; font-weight: normal\;">The </span><span style="font-family: Arial\;">Tech Titan Emerging Company Innovation Award </span><span style="font-family: Arial\; font-weight: normal\;">recognizes a company </span><span style="font-family: Arial\;">with less than 100 employees </span><span style="font-family: Arial\; font-weight: normal\;">in the Metroplex for outstanding innovation and unique accomplishments through recent or potential breakthrough technology or approach within the technology and communications industry.</span></strong></span></span></p>\n\n<p align="left" class="MsoBodyText3" style="TEXT-ALIGN: left\; MARGIN: 0in 0in 0pt"><span style="FONT-FAMILY: Arial\; mso-fareast-language: JA"><strong>&nbsp\; </strong></span></p>\n\n<div style="text-align: center\;">\n<p class="MsoNormal" style="margin: 0pt\; font-family: Arial\; text-align: center\;"><strong>Bottle Rocket<br />\nBrainspace Corp.<br />\nDialexa<br />\nTango Analytics</strong></p>\n&nbsp\;\n\n<div style="line-height: 20.8px\; margin-bottom: 6pt\; text-align: left\;"><span style="color: rgb(50\, 50\, 118)\;"><span style="font-size: 11pt\;"><span style="font-family: arial\;"><span style="font-size: small\;"><span new="" style="font-family: " times=""><span style="font-size: 12pt\;"><span style="font-family: arial\;"><span style="font-size: small\;"><strong>Registration Policy:</strong></span></span></span></span></span></span></span></span></div>\n\n<div style="font-size: 9pt\; text-align: left\;"><span style="font-family: arial\;"><span style="color: rgb(0\, 0\, 0)\;"><span style="color: rgb(47\, 47\, 47)\;">Payment is necessary at the time of reservations. Due to catering requirements we must charge for reservations not canceled</span>&nbsp\;three days prior to the event.&nbsp\; Unclaimed reservations during the event will be relinquished at noon. Walk-in customers will be seated based on space availability.</span></span><br />\n<br />\n<span style="color: rgb(0\, 0\, 0)\;"><strong>DIETARY NEEDS</strong>: To those customers with special dietary requirements\, please contact Events Team directly prior to registration deadline or place your specific dietary needs in the &#39\;<strong>note&#39\;s section</strong>&#39\; when placing your online reservation.&nbsp\; Additional fees may apply<strong>.</strong></span></div>\n</div>\n<span style="font-size:10px\;"><span style="font-family: Arial\;"> </span></span>
LOCATION:Prestonwood Country Club 15909 Preston Road Dallas\, 75248
UID:e.9090.3242
SEQUENCE:3
DTSTAMP:20260422T093945Z
URL:https://business.techtitans.org/events/details/tech-titans-innovators-luncheon-2016-august-12-3242
END:VEVENT

END:VCALENDAR
