BEGIN:VCALENDAR
VERSION:2.0
PRODID:-//ChamberMaster//Event Calendar 2.0//EN
METHOD:PUBLISH
X-PUBLISHED-TTL:P3D
REFRESH-INTERVAL:P3D
CALSCALE:GREGORIAN
BEGIN:VEVENT
DTSTART:20150814T160000Z
DTEND:20150814T183000Z
X-MICROSOFT-CDO-ALLDAYEVENT:FALSE
SUMMARY:Tech Titans Innovators Lunch - 2015 August
DESCRIPTION:INNOVATORS LUNCHEON\n\n \n\nJoin us as the eight finalists nominated for awards in the Tech Titans Innovation categories explain how their innovation\, achievement and breakthrough technological applications are changing the landscape of North Texas.\n\n\n \n\nCORPORATE INNOVATION AWARD CATEGORY\n\n \n\nThe Tech Titan Corporate Innovation Award recognizes a company with 100 or more employees in the Metroplex for outstanding innovation and unique accomplishments through recent or potential breakthrough technology or approach within the technology and communications industry.\n\n  \n\n\n\nAT&T\n\nMethode Electronics\n\nOminitracs\n\nQorvo\n \n\n   \n\nEMERGING COMPANY INNOVATION AWARD CATEGORY\n\n \n\nThe Tech Titan Emerging Company Innovation Award recognizes a company with less than 100 employees in the Metroplex for outstanding innovation and unique accomplishments through recent or potential breakthrough technology or approach within the technology and communications industry.\n\n  \n\nAxxess\n\nBrainspace\n\nEnTouch Controls\n\nZiosk\n\n\n\nMTBC Registration/Cancellation Policy:\n\nReservations with payment are required. Because of facility requirements\, we must charge for reservations not cancelled three days prior to the event. Cancellations after that date can be substitued\, please provide name prior to event. On-site registration (walk-in's) will be charged an additional $10. Unclaimed reservations during the event will be relinquished at noon. On-site registrants (walk-in customers) will be seated based on space availability.
X-ALT-DESC;FMTTYPE=text/html:<p class="MsoNormal" style="margin: 0pt\; font-family: Arial\; text-align: center\;"><span style="font-size:14px\;"><span style="font-family: Arial\;"><strong><font color="#b0171f">INNOVATORS LUNCHEON</font></strong></span></span></p>\n\n<p class="MsoNormal" style="margin: 0pt\; font-family: Arial\; text-align: center\;"><font size="2"><span style="FONT-FAMILY: Arial\; mso-fareast-language: JA"><strong>&nbsp\;</strong></span></font></p>\n\n<p class="MsoNormal" style="margin: 0pt\; font-family: Arial\; text-align: center\;"><span style="font-size:12px\;"><span style="font-family: Arial\;"><span style="font-family: Arial\;">Join us as the eight finalists nominated for awards in the Tech Titans&nbsp\;Innovation categories explain how their innovation\, achievement and breakthrough technological applications are changing the landscape of North Texas.</span></span></span></p>\n<br />\n<font size="2">&nbsp\;</font>\n\n<p class="MsoNormal" style="margin: 0pt\; font-family: Arial\; text-align: center\;"><span style="font-size:14px\;"><span style="font-family: Arial\;"><strong><font color="#b0171f">CORPORATE&nbsp\;INNOVATION AWARD CATEGORY</font></strong></span></span><br />\n&nbsp\;</p>\n\n<p class="MsoBodyText3" style="margin: 0in 0in 0pt\; text-align: center\;"><span style="font-size:12px\;"><span style="font-family: Arial\;"><span style="font-family: Arial\; font-weight: normal\;">The </span><span style="font-family: Arial\;"><strong>Tech Titan Corporate Innovation Award</strong></span><span style="font-family: Arial\; font-weight: normal\;"> recognizes a company</span><span style="font-family: Arial\;"><strong> with 100 or more employees</strong></span><span style="font-family: Arial\; font-weight: normal\;"> in the Metroplex for outstanding innovation and unique accomplishments through recent or potential breakthrough technology or approach within the technology and communications industry.</span></span></span></p>\n\n<p align="left" class="MsoBodyText3" style="TEXT-ALIGN: left\; MARGIN: 0in 0in 0pt"><span style="font-size:12px\;"><span style="font-family: Arial\;">&nbsp\;<span style="font-family: Arial\; font-weight: normal\;"> </span></span></span></p>\n\n<p class="MsoNormal" style="margin: 0pt\; font-family: Arial\; text-align: center\;"><br />\n<strong>AT&amp\;T<br />\nMethode Electronics<br />\nOminitracs<br />\nQorvo</strong></p>\n&nbsp\;\n\n<p align="center" class="MsoNormal" style="MARGIN: 0pt\; FONT-FAMILY: Arial\; mso-margin-bottom-alt: auto"><span style="FONT-FAMILY: Arial\; mso-fareast-language: JA">&nbsp\;&nbsp\;<span style="FONT-FAMILY: Arial\; mso-fareast-language: JA"> </span></span></p>\n\n<p class="MsoNormal" style="margin: 0pt\; font-family: Arial\; text-align: center\;"><span style="font-size:14px\;"><span style="font-family: Arial\;"><strong><font color="#b0171f">EMERGING COMPANY&nbsp\;INNOVATION AWARD CATEGORY</font></strong></span></span><br />\n&nbsp\;</p>\n\n<p class="MsoBodyText3" style="margin: 0in 0in 0pt\; text-align: center\;"><span style="font-size:12px\;"><span style="font-family: Arial\;"><strong><span style="font-family: Arial\; font-weight: normal\;">The </span><span style="font-family: Arial\;">Tech Titan Emerging Company Innovation Award </span><span style="font-family: Arial\; font-weight: normal\;">recognizes a company </span><span style="font-family: Arial\;">with less than 100 employees </span><span style="font-family: Arial\; font-weight: normal\;">in the Metroplex for outstanding innovation and unique accomplishments through recent or potential breakthrough technology or approach within the technology and communications industry.</span></strong></span></span></p>\n\n<p align="left" class="MsoBodyText3" style="TEXT-ALIGN: left\; MARGIN: 0in 0in 0pt"><span style="FONT-FAMILY: Arial\; mso-fareast-language: JA"><strong>&nbsp\; </strong></span></p>\n\n<div style="text-align: center\;"><strong>Axxess<br />\nBrainspace<br />\nEnTouch Controls<br />\nZiosk</strong><br />\n<br />\n<span style="font-size:11px\;"><span style="font-family: Arial\;"><span style="font-family: Arial\;"><span style="font-family: Arial\;"><font color="#b31b1b"><strong>MTBC Registration/Cancellation Policy:</strong></font></span></span></span></span></div>\n\n<p class="MsoNormal" style="margin: 0pt\; font-family: Arial\;"><span style="font-size:10px\;"><span style="font-family: Arial\;"><span style="font-family: Arial\;"><span style="font-family: Arial\;"><font color="#000000">Reservations with payment are required. Because of<span> facility requirements\, we must charge for reservations not cancelled three days prior to the event. Cancellations after that date can be substitued\, please provide name prior to event.</span> <span _mce_style="color: #b0171f\;" style="color: rgb(176\, 23\, 31)\;">On-site registration (walk-in&#39\;s) will be charged an additional $10</span>. Unclaimed reservations during the event will be relinquished at noon. On-site registrants (walk-in customers) will be seated based on space availability.</font></span></span> </span></span></p>\n
LOCATION:Prestonwood Country Club 15909 Preston Road Dallas\, 75248
UID:e.9090.3135
SEQUENCE:3
DTSTAMP:20260423T045137Z
URL:https://business.techtitans.org/events/details/tech-titans-innovators-lunch-2015-august-08-14-2015-3135
END:VEVENT

END:VCALENDAR
