BEGIN:VCALENDAR
VERSION:2.0
PRODID:-//ChamberMaster//Event Calendar 2.0//EN
METHOD:PUBLISH
X-PUBLISHED-TTL:P3D
REFRESH-INTERVAL:P3D
CALSCALE:GREGORIAN
BEGIN:VEVENT
DTSTART:20170323T163000Z
DTEND:20170323T180000Z
X-MICROSOFT-CDO-ALLDAYEVENT:FALSE
SUMMARY:Tech Titans Innovation Team - Next Big Thing Speaker Series
DESCRIPTION:Tech Titans Innovation Team - Next Big Thing Speaker Series\n\nSpeaker:  Keith Casey\, SVP Sales & Marketing\, bitqyck\n\nTopic:  Krypto-currency: What is it\, who rare the major players and how does BITQUCK differ.\n\n\n\nA cryptocurrency is a digital asset designed to work as a medium of exchange using cryptography to secure the transactions and to control the creation of additional units of the currency. Cryptocurrencies are a subset of alternative currencies\, or specifically of digital currencies.Bitcoin became the first decentralized cryptocurrency in 2009. Since then\, numerous cryptocurrencies have been created.  Join us and learn about the latest entry into this space: BITQYCK.
X-ALT-DESC;FMTTYPE=text/html:<span style="font-size:14px\;"><span style="font-family:arial\;">Tech Titans Innovation Team - Next Big Thing Speaker Series<br />\nSpeaker: &nbsp\;Keith Casey\, SVP Sales &amp\; Marketing\, bitqyck<br />\nTopic: &nbsp\;Krypto-currency: What is it\, who rare the major players and how does BITQUCK&nbsp\;differ.<br />\n<br />\n<span style="color: rgb(84\, 84\, 84)\;">A&nbsp\;</span><span style="font-weight: bold\; color: rgb(106\, 106\, 106)\;">cryptocurrency</span><span style="color: rgb(84\, 84\, 84)\;">&nbsp\;</span><span style="color: rgb(84\, 84\, 84)\;">is a digital asset designed to work as a medium of exchange using cryptography to secure the transactions and to control the creation of additional units of the currency.&nbsp\;</span><span style="font-weight: bold\; color: rgb(106\, 106\, 106)\;">Cryptocurrencies</span><span style="color: rgb(84\, 84\, 84)\;">&nbsp\;are a subset of alternative currencies\, or specifically of digital currencies.</span><a href="https://en.wikipedia.org/wiki/Bitcoin" style="color: rgb(11\, 0\, 128)\; background-image: none\; background-position: initial\; background-size: initial\; background-repeat: initial\; background-attachment: initial\; background-origin: initial\; background-clip: initial\; font-family: sans-serif\; font-size: 14px\;" title="Bitcoin">Bitcoin</a><span style="color: rgb(37\, 37\, 37)\;">&nbsp\;became the first decentralized cryptocurrency in 2009.&nbsp\;Since then\, numerous cryptocurrencies have been created. &nbsp\;Join us and learn about the latest entry into this space: BITQYCK.</span></span></span><br />\n&nbsp\;
LOCATION:DFW Innovation Center 1201 International Parkway\, Suite 200 Richardson\, Texas 75081 Map
UID:e.9090.3318
SEQUENCE:3
DTSTAMP:20260421T235824Z
URL:https://business.techtitans.org/events/details/tech-titans-innovation-team-next-big-thing-speaker-series-3318
END:VEVENT

END:VCALENDAR
