BEGIN:VCALENDAR
VERSION:2.0
PRODID:-//ChamberMaster//Event Calendar 2.0//EN
METHOD:PUBLISH
X-PUBLISHED-TTL:P3D
REFRESH-INTERVAL:P3D
CALSCALE:GREGORIAN
BEGIN:VEVENT
DTSTART:20161214T223000Z
DTEND:20161215T020000Z
X-MICROSOFT-CDO-ALLDAYEVENT:FALSE
SUMMARY:Tech Titans Holiday Happy Hour - Dec. 14
DESCRIPTION:Come join Tech Titans for our holiday happy hour! Connect with other tech enthusiasts in real-time and face-to-face at Eastwoods in Dallas. With special holiday drink pricing and an assortment of free appetizers its a no-brainer!  Tech Titans gives you the opportunity to meet other tech playmakers in DFW\, reconnect with past partners\, and find out the latest happenings in the DFW tech scene.
X-ALT-DESC;FMTTYPE=text/html:<div style="font-family: Arial\;">\n<div style="color: gray\;"><font size="2">Come join Tech Titans for our&nbsp\;holiday happy hour! Connect with other tech enthusiasts in real-time and face-to-face at Eastwoods in Dallas. With special holiday drink pricing and an assortment of free appetizers its a no-brainer!&nbsp\;&nbsp\;Tech Titans&nbsp\;gives you the opportunity to meet other tech playmakers in DFW\, reconnect with past partners\, and find out the latest happenings in the DFW tech scene.</font></div>\n\n<p>&nbsp\;</p>\n\n<p class="MsoNormal" style="margin: 0in 0in 0pt\;">&nbsp\;</p>\n\n<p class="MsoNormal" style="margin: 0in 0in 0pt\;">&nbsp\;</p>\n\n<p class="MsoNormal" style="margin: 0in 0in 0pt\;">&nbsp\;</p>\n\n<p>&nbsp\;</p>\n\n<p class="MsoNormal" style="margin: 0in 0in 0pt\;">&nbsp\;</p>\n\n<p class="MsoNormal" style="margin: 0pt\; mso-margin-bottom-alt: auto\;">&nbsp\;</p>\n</div>\n
LOCATION:Eastwood's 3407 McKinney Ave Dallas\, TX 75204
UID:e.9090.3279
SEQUENCE:3
DTSTAMP:20260422T043647Z
URL:https://business.techtitans.org/events/details/tech-titans-holiday-happy-hour-dec-14-3279
END:VEVENT

END:VCALENDAR
