BEGIN:VCALENDAR
VERSION:2.0
PRODID:-//ChamberMaster//Event Calendar 2.0//EN
METHOD:PUBLISH
X-PUBLISHED-TTL:P3D
REFRESH-INTERVAL:P3D
CALSCALE:GREGORIAN
BEGIN:VEVENT
DTSTART:20150821T223000Z
DTEND:20150822T050000Z
X-MICROSOFT-CDO-ALLDAYEVENT:FALSE
SUMMARY:Tech Titans Gala 2015
DESCRIPTION:Registration for this event is closed.\n\nThe Tech Titans awards gala is a black-tie event celebrating the achievements of cutting-edge leaders from more than 4\,000 tech companies whose ideas have elevated technology in North Texas. The prestigious annual contest recognizes outstanding information technology companies and individuals in the North Texas area who have made contributions during the past year locally\, as well as to the technology industry overall. \n\n \n\nSponsorships are available\n\nFormal Attire Optional. \n\nComplimentary self-parking\, $5 garage parking\, $10 valet parking
X-ALT-DESC;FMTTYPE=text/html:<p><strong>Registration for this event is closed.</strong><br />\nThe Tech Titans awards gala is a black-tie event celebrating the achievements of cutting-edge leaders from more than 4\,000 tech companies whose ideas have elevated technology in North Texas. The prestigious annual contest recognizes outstanding information technology companies and individuals in the North Texas area who have made contributions during the past year locally\, as well as to the technology industry overall.&nbsp\;<br />\n&nbsp\;</p>\n\n<p><strong style="line-height: 1.6\;">Sponsorships are available</strong></p>\n\n<p>Formal Attire Optional.&nbsp\;<br />\n<span style="line-height: 1.6\;">Complimentary self-parking\, $5 garage parking\, $10 valet parking</span></p>\n
LOCATION:InterContinental Hotel - Dallas 15201 Dallas Parkway Addison\, TX 75001
UID:e.9090.3052
SEQUENCE:3
DTSTAMP:20260423T060602Z
URL:https://business.techtitans.org/events/details/tech-titans-gala-2015-08-21-2015-3052
END:VEVENT

END:VCALENDAR
