BEGIN:VCALENDAR
VERSION:2.0
PRODID:-//ChamberMaster//Event Calendar 2.0//EN
METHOD:PUBLISH
X-PUBLISHED-TTL:P3D
REFRESH-INTERVAL:P3D
CALSCALE:GREGORIAN
BEGIN:VEVENT
DTSTART:20160512T210000Z
DTEND:20160512T220000Z
X-MICROSOFT-CDO-ALLDAYEVENT:FALSE
SUMMARY:Tech Titans Advocacy Team - May 12
DESCRIPTION:Advocacy Team meeting
X-ALT-DESC;FMTTYPE=text/html:Advocacy Team meeting
LOCATION:Mr. Dale Craymer\, President\, Texas Taxpayers and Research Association will be our guest as we discuss tax issues as they relate to the technology industry in Texas.
UID:e.9090.3206
SEQUENCE:3
DTSTAMP:20260422T140529Z
URL:https://business.techtitans.org/events/details/tech-titans-advocacy-team-may-12-05-12-2016-3206
END:VEVENT

END:VCALENDAR
