BEGIN:VCALENDAR
VERSION:2.0
PRODID:-//ChamberMaster//Event Calendar 2.0//EN
METHOD:PUBLISH
X-PUBLISHED-TTL:P3D
REFRESH-INTERVAL:P3D
CALSCALE:GREGORIAN
BEGIN:VEVENT
DTSTART:20160609T210000Z
DTEND:20160609T220000Z
X-MICROSOFT-CDO-ALLDAYEVENT:FALSE
SUMMARY:Tech Titans Advocacy Team - June 9
DESCRIPTION:The Tech Titans Advocacy Team will have a working meeting.  Topics of discussion will be a mapping project of legislative districts and Tech Titans members within those districts and how to use that information and interim charges updates.
X-ALT-DESC;FMTTYPE=text/html:The Tech Titans Advocacy Team will have a working meeting.&nbsp\; Topics of discussion will be a mapping project of legislative districts and Tech Titans members within those districts and how to use that information and interim charges updates.
LOCATION:Tech Titans office 411 Belle Grove Dr Richardson\, TX 75080
UID:e.9090.3229
SEQUENCE:3
DTSTAMP:20260422T140703Z
URL:https://business.techtitans.org/events/details/tech-titans-advocacy-team-june-9-06-09-2016-3229
END:VEVENT

END:VCALENDAR
