BEGIN:VCALENDAR
VERSION:2.0
PRODID:-//ChamberMaster//Event Calendar 2.0//EN
METHOD:PUBLISH
X-PUBLISHED-TTL:P3D
REFRESH-INTERVAL:P3D
CALSCALE:GREGORIAN
BEGIN:VEVENT
DTSTART:20160714T210000Z
DTEND:20160714T220000Z
X-MICROSOFT-CDO-ALLDAYEVENT:FALSE
SUMMARY:Tech Titans Advocacy Team - July 14
DESCRIPTION:The Tech Titans Advocacy Team will meet on Thursday\, July 14 at 4:00 p.m.  Guest speaker will be Texas Commissioner of Education Michael Morath.  He will give an update on implementation of  HB 5 and other public education updates.
X-ALT-DESC;FMTTYPE=text/html:The Tech Titans Advocacy Team will meet on Thursday\, July 14 at 4:00 p.m.&nbsp\; Guest speaker will be Texas Commissioner of Education Michael Morath.&nbsp\; He will give an update on implementation of&nbsp\; HB 5 and other public education updates.
LOCATION:Tech Titans office 411 Belle Grove Dr Richardson\, TX 75080 OR Dial In: 800-326-0013\; Conf ID: 3217123
UID:e.9090.3239
SEQUENCE:3
DTSTAMP:20260422T111213Z
URL:https://business.techtitans.org/events/details/tech-titans-advocacy-team-july-14-07-14-2016-3239
END:VEVENT

END:VCALENDAR
