BEGIN:VCALENDAR
VERSION:2.0
PRODID:-//ChamberMaster//Event Calendar 2.0//EN
METHOD:PUBLISH
X-PUBLISHED-TTL:P3D
REFRESH-INTERVAL:P3D
CALSCALE:GREGORIAN
BEGIN:VEVENT
DTSTART:20160211T220000Z
DTEND:20160211T230000Z
X-MICROSOFT-CDO-ALLDAYEVENT:FALSE
SUMMARY:Tech Titans Advocacy Team - Feb. 11
DESCRIPTION:Please join us for the next Advocacy Team meeting on Feb. 11.  Jason Wright\, Field Director for Senator Ted Cruz\, will give us a legislative recap from last year and what's happening this year.  The second half of the meeting\, we will have Dr. Ginger Gossman\, senior director for Innovation and Policy Department for the Coordinating Board will discuss the 60x30TX plan.
X-ALT-DESC;FMTTYPE=text/html:Please join us for the next Advocacy Team meeting on Feb. 11.&nbsp\; Jason Wright\, Field Director for Senator Ted Cruz\, will give us a legislative recap from last year and what&#39\;s happening this year.&nbsp\; The second half of the meeting\, we will have Dr. Ginger Gossman\, senior director&nbsp\;for Innovation and Policy Department for the Coordinating Board will discuss the 60x30TX plan.
LOCATION:Tech Titans Office 411 Belle Grove Dr. Richardson\, TX 75080 or call-in at 800-326-0013 Conf ID: 3217123
UID:e.9090.3179
SEQUENCE:3
DTSTAMP:20260422T193108Z
URL:https://business.techtitans.org/events/details/tech-titans-advocacy-team-feb-11-02-11-2016-3179
END:VEVENT

END:VCALENDAR
