BEGIN:VCALENDAR
VERSION:2.0
PRODID:-//ChamberMaster//Event Calendar 2.0//EN
METHOD:PUBLISH
X-PUBLISHED-TTL:P3D
REFRESH-INTERVAL:P3D
CALSCALE:GREGORIAN
BEGIN:VEVENT
DTSTART:20161115T193000Z
DTEND:20161115T230000Z
X-MICROSOFT-CDO-ALLDAYEVENT:FALSE
SUMMARY:*Tech Talk by Equinix \, Nov. 15
DESCRIPTION:Dominate Your Cloud Game with Equinix!\n\nJoin us in the Dallas area for whiteboarding\, networking and games! This interactive session is ideal for Network\, Cloud\, and Security architects and engineers to learn best practices and practical steps to develop your cloud strategy.\n\n\n\n	Run by architects\, for architects\n	No PowerPoints\n	No product pitches\n\n\n\n\nFour Architectural Whiteboard Sessions - led by industry experts\n\n\n	IOA and Cloud Exchange\n	NPS and Snap mirror for DR\n	Hybrid Cloud\n	SD-WAN Network Transformation\n\n\nThese sessions will be followed by a networking happy hour. Bring your A-Game! We will be offering prizes for a whiteboarding competition at the end of the sessions. Register today as spaces are limited!
X-ALT-DESC;FMTTYPE=text/html:<strong>Dominate Your Cloud Game with Equinix!</strong><br />\n<a href="http://info.equinix.com/Dallas-Tech-Talk_Reg_Page.html" style="text-size-adjust: none\; color: rgb(255\, 0\, 0)\; font-family: Arial\, Helvetica\, sans-serif\; font-size: 16px\; text-decoration: none\;" target="_blank">Join us</a> in the Dallas area for whiteboarding\, networking and games! This interactive session is ideal for Network\, Cloud\, and Security architects and engineers to learn best practices and practical steps to develop your cloud strategy.\n\n<div>\n<ul>\n	<li>Run by architects\, for architects</li>\n	<li>No PowerPoints</li>\n	<li>No product pitches</li>\n</ul>\n</div>\n\n<div>\n<p>Four Architectural Whiteboard Sessions - led by industry experts</p>\n\n<ul>\n	<li>IOA and Cloud Exchange</li>\n	<li>NPS and Snap mirror for DR</li>\n	<li>Hybrid Cloud</li>\n	<li>SD-WAN Network Transformation</li>\n</ul>\n\n<p>These sessions will be followed by a networking happy hour. Bring your A-Game! We will be offering prizes for a whiteboarding competition at the end of the sessions.&nbsp\;<a href="http://info.equinix.com/Dallas-Tech-Talk_Reg_Page.html" style="text-size-adjust: none\; color: rgb(255\, 0\, 0)\; text-decoration: none\;" target="_blank">Register</a>&nbsp\;today as spaces are limited!</p>\n</div>\n
LOCATION:PINSTACK 6205 Dallas Pkwy Plano\, TX 75024
UID:e.9090.3274
SEQUENCE:3
DTSTAMP:20260422T043615Z
URL:https://business.techtitans.org/events/details/tech-talk-by-equinix-nov-15-3274
END:VEVENT

END:VCALENDAR
