BEGIN:VCALENDAR
VERSION:2.0
PRODID:-//ChamberMaster//Event Calendar 2.0//EN
METHOD:PUBLISH
X-PUBLISHED-TTL:P3D
REFRESH-INTERVAL:P3D
CALSCALE:GREGORIAN
BEGIN:VEVENT
DTSTART:20150320T161500Z
DTEND:20150320T181500Z
X-MICROSOFT-CDO-ALLDAYEVENT:FALSE
SUMMARY:Tech Industry Luncheon - 2015 March
DESCRIPTION:"Mobility\, art of the possible"\n\nStephen Reiter\, executive vice president\, Entegra\n\nThe analysis of workflows and business processes between enterprises has been used to reduce human effort and manage change since the 1930s. With the maturation of LTE\, the entire world of business is on the edge for the next quantum leap revolution: Business Process Re-engineering or BPR 2.0. In other words\, people are moving large amounts of data using mobile devices and this changes how we work. This presentation will address the unique concept of mobility as defined by human interaction combined with radically changing business processes to create and establish a new mobility paradigm without borders. \n\n\n\nMTBC Registration Policy:\n\nPayment is necessary at the time of reservations. Due to catering requirements we must charge for reservations not canceled three days prior to the event.  Unclaimed reservations during the event will be relinquished at noon. Walk-in customers will be seated based on space availability.\n\nDIETARY NEEDS: To those customers with special dietary requirements\, please contact Events Team directly three days prior to the event or place your specific dietary needs in the 'note's section' when placing your online reservation. Without notification prior to luncheon we cannot guarantee a special plate during the event!  Additional fees may apply.
X-ALT-DESC;FMTTYPE=text/html:<p><strong><span style="color:#990000\;">&quot\;Mobility\, art of the possible&quot\;</span><br />\nStephen Reiter\, </strong>executive vice president\, <strong>Entegra</strong><br />\n<span style="font-size:12px\;"><span style="color: black\;"><span style="font-family: arial\,sans-serif\;">The analysis of workflows and business processes between enterprises has been used to reduce human effort and manage change since the 1930s. With the maturation of LTE\, the entire world of business is on the edge for the next quantum leap revolution: Business Process Re-engineering or BPR 2.0. In other words\, people are moving large amounts of data using mobile devices and this changes how we work. This presentation will address the unique concept of mobility as defined by human interaction combined with radically changing business processes to create and establish a new mobility paradigm without borders. </span></span></span><br />\n<br />\n<span style="font-size: 11pt\;"><span style="font-family: arial\;"><span style="font-size: small\;"><span style="font-family: times new roman\;"><span style="font-size: 12pt\;"><span style="font-family: arial\;"><span style="font-size: small\;"><strong><span style="color: rgb(179\, 27\, 27)\;">MTBC Registration Policy:</span></strong></span></span></span></span></span></span></span><br />\n<span style="font-size: 12px\;"><span style="font-family: arial\;"><span style="color: rgb(0\, 0\, 0)\;"><span style="color: rgb(47\, 47\, 47)\;">Payment is necessary at the time of reservations. Due to catering requirements we must charge for reservations not canceled</span> three days prior to the event.&nbsp\; Unclaimed reservations during the event will be relinquished at noon. Walk-in customers will be seated based on space availability.</span></span></span></p>\n\n<div style="font-size: 9pt\;"><span style="color:#990000\;"><strong>DIETARY NEEDS</strong>:</span><span style="color:#000000\;"> To those customers with special dietary requirements\, please contact Events Team directly three days prior to the event or place your specific dietary needs in the &#39\;<strong>note&#39\;s section</strong>&#39\; when placing your online reservation. Without notification prior to luncheon we cannot guarantee a special plate during the event!&nbsp\; Additional fees may apply<strong>.</strong></span></div>\n
LOCATION:Prestonwood Country Club 15909 Preston Road Dallas\, TX 75248
UID:e.9090.3053
SEQUENCE:3
DTSTAMP:20260423T112747Z
URL:https://business.techtitans.org/events/details/tech-industry-luncheon-2015-march-03-20-2015-3053
END:VEVENT

END:VCALENDAR
