BEGIN:VCALENDAR
VERSION:2.0
PRODID:-//ChamberMaster//Event Calendar 2.0//EN
METHOD:PUBLISH
X-PUBLISHED-TTL:P3D
REFRESH-INTERVAL:P3D
CALSCALE:GREGORIAN
BEGIN:VEVENT
DTSTART:20150417T161500Z
DTEND:20150417T181500Z
X-MICROSOFT-CDO-ALLDAYEVENT:FALSE
SUMMARY:Tech Industry Luncheon - 2015 April
DESCRIPTION:"State Farm IT: Using Technology to Be There for our Customers"\n\nAshley Pettit\, VP\, Systems at State Farm Insurance\n\n\n\nAbout the Program\n\nTopics Ashley will cover include:\n\n\n	Industry disruptions\n\n	\n		Changes in the industry / new players / new technology \n	\n	\n	Changing expectations of our customers\n	\n		Digital / mobile / customer segmentation \n	\n	\n	Primary challenges for IT in keeping up with those changing expectations and what we?re doing to address them through technology\n	\n		Legacy Modernization / Cloud Computing / Big Data / Customer-centric solutions\n	\n	\n	Education regarding our IT shop\n	\n		Size / scale / number of agents / etc.\n	\n	\n	Opportunities as we look to the future\n\n\nMTBC Registration Policy:\n\nPayment is necessary at the time of reservations. Due to catering requirements we must charge for reservations not canceled three days prior to the event.  Unclaimed reservations during the event will be relinquished at noon. Walk-in customers will be seated based on space availability.\n\n\n\nDIETARY NEEDS: To those customers with special dietary requirements\, please contact Events Team directly three days prior to the event or place your specific dietary needs in the 'note's section' when placing your online reservation.  Additional fees may apply. \n\n\n\n\n\nTo those customers with special dietary requirements\, reservations must be made three days in advance of any luncheon in order to accommodate requests. Additional fees may apply.
X-ALT-DESC;FMTTYPE=text/html:<p><span style="color:#990000\;"><strong>&quot\;State Farm IT: Using Technology to Be There for our Customers&quot\;</strong></span><br />\n<strong>Ashley Pettit\, </strong>VP\, Systems at<strong> State Farm Insurance</strong><br />\n<br />\n<strong>About the Program</strong><br />\n<span style="color:black\;">Topics Ashley will cover include:</span></p>\n\n<ul>\n	<li style="margin-bottom:6.0pt\;"><span style="color:black\;"><span style="font-family:calibri\;"><span style="font-size:11.0pt\;">Industry disruptions</span></span></span>\n\n	<ul style="list-style-type:circle\;">\n		<li style="margin-top:0in\;margin-right:0in\;margin-bottom:6.0pt\;"><span style="color:black\;"><span style="font-family:calibri\;"><span style="font-size:11.0pt\;">Changes in the industry / new players / new technology </span></span></span></li>\n	</ul>\n	</li>\n	<li style="margin-bottom:6.0pt\;"><span style="color:black\;"><span style="font-family:calibri\;"><span style="font-size:11.0pt\;">Changing expectations of our customers</span></span></span>\n	<ul style="list-style-type:circle\;">\n		<li style="margin-top:0in\;margin-right:0in\;margin-bottom:6.0pt\;"><span style="color:black\;"><span style="font-family:calibri\;"><span style="font-size:11.0pt\;">Digital / mobile / customer segmentation </span></span></span></li>\n	</ul>\n	</li>\n	<li style="margin-bottom:6.0pt\;"><span style="color:black\;"><span style="font-family:calibri\;"><span style="font-size:11.0pt\;">Primary </span></span></span><span style="font-family:calibri\;"><span style="font-size:11.0pt\;">challenges for IT in keeping up with those changing expectations and what we?re doing to address them through technology</span></span>\n	<ul style="list-style-type:circle\;">\n		<li style="margin-top:0in\;margin-right:0in\;margin-bottom:6.0pt\;"><span style="font-family:calibri\;"><span style="font-size:11.0pt\;">Legacy Modernization / Cloud Computing / Big Data / Customer-centric solutions</span></span></li>\n	</ul>\n	</li>\n	<li style="margin-bottom:6.0pt\;"><span style="font-family:calibri\;"><span style="font-size:11.0pt\;">Education regarding our IT shop</span></span>\n	<ul style="list-style-type:circle\;">\n		<li style="margin-top:0in\;margin-right:0in\;margin-bottom:6.0pt\;"><span style="color:black\;"><span style="font-family:calibri\;"><span style="font-size:11.0pt\;">Size / scale / number of agents / etc.</span></span></span></li>\n	</ul>\n	</li>\n	<li style="margin-bottom:6.0pt\;"><span style="color:black\;"><span style="font-family:calibri\;"><span style="font-size:11.0pt\;">Opportunities as we look to the </span></span></span><span style="color:black\;"><span style="font-family:calibri\;"><span style="font-size:11.0pt\;">future</span></span></span></li>\n</ul>\n\n<div style="margin-bottom:6.0pt\;"><span style="font-size: 11pt\;"><span style="font-family: arial\;"><span style="font-size: small\;"><span style="font-family: times new roman\;"><span style="font-size: 12pt\;"><span style="font-family: arial\;"><span style="font-size: small\;"><strong><span style="color: rgb(179\, 27\, 27)\;">MTBC</span></strong></span></span></span></span></span></span></span><span style="font-size: 11pt\;"><span style="font-family: arial\;"><span style="font-size: small\;"><span style="font-family: times new roman\;"><span style="font-size: 12pt\;"><span style="font-family: arial\;"><span style="font-size: small\;"><strong><span style="color: rgb(179\, 27\, 27)\;"> Registration Policy:</span></strong></span></span></span></span></span></span></span></div>\n\n<div style="font-size: 9pt\;"><span style="font-size: 12px\;"><span style="font-family: arial\;"><span style="color: rgb(0\, 0\, 0)\;"><span style="color: rgb(47\, 47\, 47)\;">Payment is necessary at the time of reservations. Due to catering requirements we must charge for reservations not canceled</span> three days prior to the event.&nbsp\; Unclaimed reservations during the event will be relinquished at noon. Walk-in customers will be seated based on space availability.</span></span></span><br />\n<br />\n<span style="color:#000000\;"><strong>DIETARY NEEDS</strong>: To those customers with special dietary requirements\, please contact Events Team directly three days prior to the event or place your specific dietary needs in the &#39\;<strong>note&#39\;s section</strong>&#39\; when placing your online reservation.&nbsp\; Additional fees may apply<strong>.</strong> </span></div>\n\n<p><br />\n<br />\n<span style="font-size: 11pt\;"><span style="font-family: arial\;"><span style="font-size: 11px\;">To those customers with special dietary requirements\, reservations must be made three days in advance of any luncheon in order to accommodate requests. Additional fees may apply.</span></span></span></p>\n\n<p><br />\n<br />\n<br />\n&nbsp\;</p>\n
LOCATION:Prestonwood Country Club 15909 Preston Road Dallas\, TX 75248
UID:e.9090.3054
SEQUENCE:3
DTSTAMP:20260423T095657Z
URL:https://business.techtitans.org/events/details/tech-industry-luncheon-2015-april-04-17-2015-3054
END:VEVENT

END:VCALENDAR
