BEGIN:VCALENDAR
VERSION:2.0
PRODID:-//ChamberMaster//Event Calendar 2.0//EN
METHOD:PUBLISH
X-PUBLISHED-TTL:P3D
REFRESH-INTERVAL:P3D
CALSCALE:GREGORIAN
BEGIN:VEVENT
DTSTART:20170224T173000Z
DTEND:20170224T210000Z
X-MICROSOFT-CDO-ALLDAYEVENT:FALSE
SUMMARY:Richardson Community / US Ignite - Smart Gigabit City\, Feb. 24
DESCRIPTION:Richardson\, Texas\, home of the "Telecom Corridor  Area of Innovation" is one of four US Ignite member cities participating in a "smart gigabit city" application development challenge.  A total of $20\,000 in cash prizes will be awarded to the top two developers/development teams that can come up with applications ideas that utilize gigabit bandwidth and or require extremely low latency.\n\n \n\nProgram details will be announced at the event on February 24th.  The program is open to DFW area entrepreneurs\, university researchers\, developers\, start-ups and early stage companies who can design new applications or adapt existing applications to meet the contest requirements.\n\n \n\nAn impartial panel of judges from the north Texas technology ecosystem will evaluate proposals and business plans submitted during the contest period and determine the winners of the top two application concepts and proposals submitted. \n\n \n\nDuring this smart gigabit cities "challenge" launch event\, a "reverse pitch" format will be used to outline the requirements of the challenge to attendees.  Program organizers will pitch several problem areas of a smart university campus (that could also be applied to a smart city scenario)\, along with the infrastructure and resources available to be used for developing gigabit applications to the attendees.  Requirements and timelines/milestones to win one of the two $10\,000 awards will also be outlined at the event.  \n\n \n\nWho should attend:\n\n	Entrepreneurs and developers interested in creating smart gigabit cities applications\n	Start-ups who have technology or applications that could be modified to qualify as a smart gigabit city application\n	University researchers dealing with high bandwidth/low latency technology that could be applied to provide a solution(s) to the challenge\n\n\n Benefits to participants:\n\n\n	 Cash awards of $10\,000 each to the top two application ideas/demos\n	Local and regional exposure\n	Access to the network of 22 US Ignite communities to help test applications (and possible purchasers of final commercial application versions).\n	Exposure to possible investors to provide funds to commercialize the two winning applications
X-ALT-DESC;FMTTYPE=text/html:<span style="font-size:12px\;"><span style="font-family:arial\;">Richardson\, Texas\, home of the &ldquo\;<em><strong>T<strong>e</strong>lecom Corridor&reg\; Area of Innovation</strong></em>&rdquo\; is one of four US Ignite member cities participating in a &ldquo\;smart gigabit city&rdquo\; application development challenge.&nbsp\; A total of $20\,000 in cash prizes will be awarded to the top two developers/development teams that can come up with applications ideas that utilize gigabit bandwidth and or require extremely low latency.<br />\n&nbsp\;<br />\nProgram details will be announced at the event on February 24<sup>th</sup>.&nbsp\; The program is open to DFW area entrepreneurs\, university researchers\, developers\, start-ups and early stage companies who can design new applications or adapt existing applications to meet the contest requirements.<br />\n&nbsp\;<br />\nAn impartial panel of judges from the north Texas technology ecosystem will evaluate proposals and business plans submitted during the contest period and determine the winners of the top two application concepts and proposals submitted.&nbsp\;<br />\n&nbsp\;<br />\nDuring this smart gigabit cities &ldquo\;challenge&rdquo\; launch event\, a &ldquo\;reverse pitch&rdquo\; format will be used to outline the requirements of the challenge to attendees.&nbsp\; Program organizers will pitch several problem areas of a smart university campus (that could also be applied to a smart city scenario)\, along with the infrastructure and resources available to be used for developing gigabit applications to the attendees.&nbsp\; Requirements and timelines/milestones to win one of the two $10\,000 awards will also be outlined at the event.&nbsp\;&nbsp\;<br />\n&nbsp\;<br />\n<strong>Who should attend:</strong></span></span>\n<ul>\n	<li style="margin-bottom:0in\;margin-bottom:.0001pt\;"><span style="font-size:12px\;"><span style="font-family:arial\;">Entrepreneurs and developers interested in creating smart gigabit cities applications</span></span></li>\n	<li style="margin-bottom:0in\;margin-bottom:.0001pt\;"><span style="font-size:12px\;"><span style="font-family:arial\;">Start-ups who have technology or applications that could be modified to qualify as a smart gigabit city application</span></span></li>\n	<li style="margin-bottom:0in\;margin-bottom:.0001pt\;"><span style="font-size:12px\;"><span style="font-family:arial\;">University researchers dealing with high bandwidth/low latency technology that could be applied to provide a solution(s) to the </span></span><span style="font-size:12px\;"><span style="font-family:arial\;">challenge</span></span></li>\n</ul>\n\n<div style="margin-bottom:0in\;margin-bottom:.0001pt\;"><span style="font-size:12px\;"><span style="font-family:arial\;"><span style="font-size:12px\;"><span style="font-family:arial\;">&#8203\;</span></span></span></span><span style="font-size:12px\;"><span style="font-family:arial\;"><span style="font-size:12px\;"><span style="font-family:arial\;"><span style="font-size:12px\;"><span style="font-family:arial\;"><strong>Benefits</strong></span></span></span></span></span></span><span style="font-size:12px\;"><span style="font-family:arial\;"><span style="font-size:12px\;"><span style="font-family:arial\;"><span style="font-size:12px\;"><span style="font-family:arial\;"><strong> to participants</strong>:</span></span></span></span></span></span></div>\n\n<ul>\n	<li><span style="font-size:12px\;"><span style="font-family:arial\;">&#8203\;<span style="font-size:12px\;"><span style="font-family:arial\;">Cash awards of $10\,000 each to the top two application ideas/demos</span></span></span></span></li>\n	<li style="margin-bottom:0in\;margin-bottom:.0001pt\;"><span style="font-size:12px\;"><span style="font-family:arial\;">Local and regional exposure</span></span></li>\n	<li style="margin-bottom:0in\;margin-bottom:.0001pt\;"><span style="font-size:12px\;"><span style="font-family:arial\;">Access to the network of 22 US Ignite communities to help test applications (and possible purchasers of final commercial application versions).</span></span></li>\n	<li style="margin-bottom:0in\;margin-bottom:.0001pt\;"><span style="font-size:12px\;"><span style="font-family:arial\;">Exposure to possible investors to provide funds to commercialize the two winning applications</span></span></li>\n</ul>\n
LOCATION:Charles W. Eisemann Center for Performing Arts Bank of America Hall 2351 Performance Dr\, Richardson\, TX 75082 Map
UID:e.9090.3306
SEQUENCE:3
DTSTAMP:20260422T000143Z
URL:https://business.techtitans.org/events/details/richardson-community-us-ignite-smart-gigabit-city-feb-24-3306
END:VEVENT

END:VCALENDAR
