BEGIN:VCALENDAR
VERSION:2.0
PRODID:-//ChamberMaster//Event Calendar 2.0//EN
METHOD:PUBLISH
X-PUBLISHED-TTL:P3D
REFRESH-INTERVAL:P3D
CALSCALE:GREGORIAN
BEGIN:VEVENT
DTSTART:20150901T213000Z
DTEND:20150901T223000Z
X-MICROSOFT-CDO-ALLDAYEVENT:FALSE
SUMMARY:Ribbon Cutting - PonyUp Technologies Sept 1
DESCRIPTION:PonyUp Technologies will be hosting a ribbon cutting ceremony.
X-ALT-DESC;FMTTYPE=text/html:PonyUp Technologies will be hosting a ribbon cutting ceremony.
LOCATION:(BB&T bldg) 810 E. Campbell Rd #155\, Richardson\, 75081
UID:e.9090.3147
SEQUENCE:3
DTSTAMP:20260423T031558Z
URL:https://business.techtitans.org/events/details/ribbon-cutting-ponyup-technologies-sept-1-09-01-2015-3147
END:VEVENT

END:VCALENDAR
