BEGIN:VCALENDAR
VERSION:2.0
PRODID:-//ChamberMaster//Event Calendar 2.0//EN
METHOD:PUBLISH
X-PUBLISHED-TTL:P3D
REFRESH-INTERVAL:P3D
CALSCALE:GREGORIAN
BEGIN:VEVENT
DTSTART:20151030T130000Z
DTEND:20151030T153000Z
X-MICROSOFT-CDO-ALLDAYEVENT:FALSE
SUMMARY:Organizing Meeting for UAS (Drone) Forum - Oct 30
DESCRIPTION:You are invited to an organizing meeting for a New Forum:\n\nAerial Systems (UAS/UAV) "Drone" Technology for Business and Commercial UAS Users and Providers\n\n\n\nPotential Users:\n\n  General Contractors\n\n  GIS Mapping\n\n  Commercial Real Estate\n\n  Broadcast Media/Film\n\n  Architectural Firms\n\n  Aerial Survey & Photography\n\n  Engineering\n\n  Roofing\n\n  Insurance\n\nPotential Providers:\n\n  Software Developers\n\n  Image Management\n\n  Manufacturers\n\n  Sensor/Hardware\n\n  Service Providers\n\n  Aircraft Manufacturers\n\n\n\nCome and learn more about the commercial applications and legal implications for this exciting technology from the experts with OnPoynt Unmanned Systems.
X-ALT-DESC;FMTTYPE=text/html:<p><strong>You are invited to an organizing meeting for a New Forum:</strong></p>\n\n<p><em>Aerial Systems (UAS/UAV) &quot\;Drone&quot\; Technology for Business and Commercial UAS Users and Providers</em><br />\n<br />\n<span style="font-size:14px\;"><strong>Potential Users:</strong><br />\n&nbsp\; General Contractors<br />\n&nbsp\; GIS Mapping<br />\n&nbsp\; Commercial Real Estate<br />\n&nbsp\; Broadcast Media/Film<br />\n&nbsp\; Architectural Firms<br />\n&nbsp\; Aerial Survey &amp\; Photography<br />\n&nbsp\; Engineering<br />\n&nbsp\; Roofing<br />\n&nbsp\; Insurance<br />\n<strong>Potential Providers:</strong><br />\n&nbsp\; Software Developers<br />\n&nbsp\; Image Management<br />\n&nbsp\; Manufacturers<br />\n&nbsp\; Sensor/Hardware<br />\n&nbsp\; Service Providers<br />\n&nbsp\; Aircraft Manufacturers<br />\n<br />\nCome and learn more about the commercial applications and legal implications for this exciting technology from the experts with OnPoynt Unmanned Systems. &nbsp\;</span></p>\n
LOCATION:Join us for breakfast at Taco Joint\, 100 S. Central Expressway\, Richardson\, TX 75080 in the Heights Shopping Center near Half Price Books and Alamo Drafthouse Cinema. MAP
UID:e.9090.3156
SEQUENCE:3
DTSTAMP:20260423T014553Z
URL:https://business.techtitans.org/events/details/organizing-meeting-for-uas-drone-forum-oct-30-10-30-2015-3156
END:VEVENT

END:VCALENDAR
