BEGIN:VCALENDAR
VERSION:2.0
PRODID:-//ChamberMaster//Event Calendar 2.0//EN
METHOD:PUBLISH
X-PUBLISHED-TTL:P3D
REFRESH-INTERVAL:P3D
CALSCALE:GREGORIAN
BEGIN:VEVENT
DTSTART:20131212T233000Z
DTEND:20131213T010000Z
X-MICROSOFT-CDO-ALLDAYEVENT:FALSE
SUMMARY:No Connections Happy Hour - Dec. 12 will not meet
DESCRIPTION:Happy Holidays! In this busy season\, we know there are many after hours events.\n		\n			For that reason\, MTBC Connections WILL NOT MEET on December 12.\n		\n			We look forward to kicking off 2014 in style on Thursday\, January 9th at The Social House in Addison!
X-ALT-DESC;FMTTYPE=text/html:<div style="font-family: Arial\;">\n	<div style="color: gray\;">\n		<div>\n			<font face="Arial" size="2"><span class="017190120-02122013">Happy Holidays! In this busy season\, we know there are many after hours events.</span></font></div>\n		<div>\n			<font face="Arial" size="2"><span class="017190120-02122013">For that reason\, </span></font><font face="Arial" size="2"><span class="017190120-02122013">MTBC Connections WILL NOT MEET on December 12.</span></font></div>\n		<div>\n			<font face="Arial" size="2"><span class="017190120-02122013">We look forward to kicking off 2014 in style on Thursday\, January 9th at The Social House in Addison! </span></font></div>\n	</div>\n	<p>\n		&nbsp\;</p>\n	<p class="MsoNormal" style="margin: 0in 0in 0pt\;">\n		&nbsp\;</p>\n	<p class="MsoNormal" style="margin: 0in 0in 0pt\;">\n		&nbsp\;</p>\n	<p class="MsoNormal" style="margin: 0in 0in 0pt\;">\n		&nbsp\;</p>\n	<p>\n		&nbsp\;</p>\n	<p class="MsoNormal" style="margin: 0in 0in 0pt\;">\n		&nbsp\;</p>\n	<p class="MsoNormal" style="margin: 0pt\; mso-margin-bottom-alt: auto\;">\n		&nbsp\;</p>\n</div>\n
LOCATION:The Social House in Addison 5100 Belt Line Rd.\, #410 Addison\, TX 75254
UID:e.9090.2622
SEQUENCE:3
DTSTAMP:20260424T112829Z
URL:https://business.techtitans.org/events/details/no-connections-happy-hour-dec-12-will-not-meet-12-12-2013-2622
END:VEVENT

END:VCALENDAR
