BEGIN:VCALENDAR
VERSION:2.0
PRODID:-//ChamberMaster//Event Calendar 2.0//EN
METHOD:PUBLISH
X-PUBLISHED-TTL:P3D
REFRESH-INTERVAL:P3D
CALSCALE:GREGORIAN
BEGIN:VEVENT
DTSTART:20180920T223000Z
DTEND:20180921T003000Z
X-MICROSOFT-CDO-ALLDAYEVENT:FALSE
SUMMARY:NextGen Happy Hour - Sept. 20
DESCRIPTION:Join the Tech Titans young professionals group for their Third Thursday happy hour!\n\nThis month's event will be located at Blue Mesa in Addison from 5:30 - 7:30 pm. \n\nCome out and make connections with other young professionals from across the Metroplex and learn more about what Tech Titans can offer you! Feel free to bring a friend or coworker.\n\n \n\nRegistration required. Free to attend.
X-ALT-DESC;FMTTYPE=text/html:<div style="color: rgb(96\, 109\, 120)\; font-family: Calibri\, Helvetica\, Arial\, sans-serif\; font-size: 16px\; line-height: normal\; white-space: pre-wrap\;"><span style="font-size: 13px\; color: rgb(0\, 0\, 0)\; font-family: Arial\, Verdana\, Helvetica\, sans-serif\;">Join the Tech Titans young professionals group for their Third Thursday happy hour!</span></div>\n\n<div style="color: rgb(96\, 109\, 120)\; font-family: Calibri\, Helvetica\, Arial\, sans-serif\; font-size: 16px\; line-height: normal\; white-space: pre-wrap\;"><span style="font-size: 13px\; color: rgb(0\, 0\, 0)\; font-family: Arial\, Verdana\, Helvetica\, sans-serif\;">This month&#39\;s event will be located at Blue Mesa in Addison from 5:30 - 7:30 pm. </span></div>\n\n<div style="color: rgb(96\, 109\, 120)\; font-family: Calibri\, Helvetica\, Arial\, sans-serif\; font-size: 16px\; line-height: normal\; white-space: pre-wrap\;"><span style="font-size: 13px\; color: rgb(0\, 0\, 0)\; font-family: Arial\, Verdana\, Helvetica\, sans-serif\;">Come out and make connections with other young professionals from across the Metroplex and learn more about what Tech Titans can offer you!&nbsp\;Feel free to bring a friend or coworker.</span><br />\n&nbsp\;</div>\n\n<div style="color: rgb(96\, 109\, 120)\; font-family: Calibri\, Helvetica\, Arial\, sans-serif\; font-size: 16px\; line-height: normal\; white-space: pre-wrap\;"><span style="font-size: 13px\; color: rgb(0\, 0\, 0)\; font-family: Arial\, Verdana\, Helvetica\, sans-serif\;">Registration required. Free to attend.</span></div>\n
LOCATION:Blue Mesa - Addison 14866 Montfort Drive Dallas\, TX 75254
UID:e.9090.4448
SEQUENCE:3
DTSTAMP:20260420T174226Z
URL:https://business.techtitans.org/events/details/nextgen-happy-hour-sept-20-4448
END:VEVENT

END:VCALENDAR
