BEGIN:VCALENDAR
VERSION:2.0
PRODID:-//ChamberMaster//Event Calendar 2.0//EN
METHOD:PUBLISH
X-PUBLISHED-TTL:P3D
REFRESH-INTERVAL:P3D
CALSCALE:GREGORIAN
BEGIN:VEVENT
DTSTART:20151026T163000Z
DTEND:20151026T180000Z
X-MICROSOFT-CDO-ALLDAYEVENT:FALSE
SUMMARY:New Member Orientation - Oct 26
DESCRIPTION:Make plans to attend our new member orientation lunch on Monday\, Oct 26th.  Attending a Tech Titan new member orientation has a great impact on the benefits you receive from your Tech Titan membership.  Learn about all the activities at Tech Titans and develop your personal engagement plan for the ones that most interest you. You'll also meet other new members and staff of the Tech Titans\, which will kick-start your Tech Titan network.  Remember to bring your business cards!\n\n\n\nBring as many of your colleagues as you like and we'll have lunch for everyone.  Just let us know who is coming so we have enough food.  Please register online or email your RSVP to Nicole.
X-ALT-DESC;FMTTYPE=text/html:<div><font size="2"><span style="font-stretch: normal\; font-size: 13px\; line-height: 20px\; color: rgb(128\, 128\, 128)\;">Make plans to attend our new member orientation lunch on Monday\, Oct 26th.&nbsp\; Attending a </span><span style="font-stretch: normal\;">Tech Titan</span><span style="font-stretch: normal\; font-size: 13px\; line-height: 20px\; color: rgb(128\, 128\, 128)\;">&nbsp\;new member orientation has a great impact on the benefits you receive from your </span>Tech Titan<span style="font-stretch: normal\; font-size: 13px\; line-height: 20px\; color: rgb(128\, 128\, 128)\;"> membership. &nbsp\;</span><span style="font-stretch: normal\; font-size: 13px\; line-height: 20px\; color: rgb(128\, 128\, 128)\;">Learn about all the activities at </span>Tech Titans<span style="font-stretch: normal\; font-size: 13px\; line-height: 20px\; color: rgb(128\, 128\, 128)\;"> and develop your personal engagement plan for the ones that most interest you. You&#39\;ll also meet other new members and staff of the </span>Tech Titans<span style="font-stretch: normal\; font-size: 13px\; line-height: 20px\; color: rgb(128\, 128\, 128)\;">\, which will kick-start your </span><span style="font-stretch: normal\;">Tech Titan</span><span style="font-stretch: normal\; font-size: 13px\; line-height: 20px\; color: rgb(128\, 128\, 128)\;">&nbsp\;network. &nbsp\;Remember to bring your business cards!</span><br />\n<br style="font-stretch: normal\; font-size: 13px\; line-height: 20px\; color: rgb(128\, 128\, 128)\;" />\n<span style="font-family: Arial\, Helvetica\, sans-serif\; color: rgb(128\, 128\, 128)\; font-size: 10pt\;">Bring as many of your colleagues as you like and we&#39\;ll have lunch for everyone. &nbsp\;Just let us know who is coming so we have enough food. &nbsp\;Please register online or&nbsp\;email your RSVP to Nicole<span class="555431315-02022015">.</span></span></font></div>\n
LOCATION:Tech Titan Board Room - 411 Belle Grove Dr. Richardson\, TX. 75080
UID:e.9090.3144
SEQUENCE:3
DTSTAMP:20260423T014430Z
URL:https://business.techtitans.org/events/details/new-member-orientation-oct-26-10-26-2015-3144
END:VEVENT

END:VCALENDAR
