BEGIN:VCALENDAR
VERSION:2.0
PRODID:-//ChamberMaster//Event Calendar 2.0//EN
METHOD:PUBLISH
X-PUBLISHED-TTL:P3D
REFRESH-INTERVAL:P3D
CALSCALE:GREGORIAN
BEGIN:VEVENT
DTSTART:20160304T173000Z
DTEND:20160304T190000Z
X-MICROSOFT-CDO-ALLDAYEVENT:FALSE
SUMMARY:New Member Orientation - March 04
DESCRIPTION:Make plans to attend our new member orientation lunch on Friday\, March 04th.  Attending a Tech Titan new member orientation has a great impact on the benefits you receive from your Tech Titan membership. Learn about all the activities at Tech Titans and develop your personal engagement plan for the ones that most interest you. You'll also meet other new members and staff of Tech Titans\, which will kick-start your Tech Titan network. Remember to bring your business cards!\n\n\n\nBring as many of your colleagues as you like and we'll have lunch for everyone. Just let us know who is coming so we have enough food. Please register online or email your RSVP to Julie.
X-ALT-DESC;FMTTYPE=text/html:<span style="color: rgb(128\, 128\, 128)\; line-height: 20px\; font-size: 13px\; font-stretch: normal\;">Make plans to attend our new member orientation lunch on Friday\, March 04th.&nbsp\; Attending a </span>Tech Titan<span style="color: rgb(128\, 128\, 128)\; line-height: 20px\; font-size: 13px\; font-stretch: normal\;"> new member orientation has a great impact on the benefits you receive from your </span><span style="font-stretch: normal\;">Tech Titan</span><span style="color: rgb(128\, 128\, 128)\; line-height: 20px\; font-size: 13px\; font-stretch: normal\;"> membership. </span><span style="color: rgb(128\, 128\, 128)\; line-height: 20px\; font-size: 13px\; font-stretch: normal\;">Learn about all the activities at Tech Titans</span><span style="color: rgb(128\, 128\, 128)\; line-height: 20px\; font-size: 13px\; font-stretch: normal\;"> and develop your personal engagement plan for the ones that most interest you. You&#39\;ll also meet other new members and staff of Tech Titans</span><span style="color: rgb(128\, 128\, 128)\; line-height: 20px\; font-size: 13px\; font-stretch: normal\;">\, which will kick-start your </span><span style="font-stretch: normal\;">Tech Titan</span><span style="color: rgb(128\, 128\, 128)\; line-height: 20px\; font-size: 13px\; font-stretch: normal\;"> network. Remember to bring your business cards!</span><br />\n<br />\n<span style="color: rgb(128\, 128\, 128)\; font-family: Arial\, Helvetica\, sans-serif\; font-size: 10pt\;">Bring as many of your colleagues as you like and we&#39\;ll have lunch for everyone. Just let us know who is coming so we have enough food. Please register online or email your RSVP to Julie<span class="555431315-02022015">.</span></span><br />\n&nbsp\;
LOCATION:Tech Titan Board Room - 411 Belle Grove Dr. Richardson\, TX. 75080
UID:e.9090.3184
SEQUENCE:3
DTSTAMP:20260422T175257Z
URL:https://business.techtitans.org/events/details/new-member-orientation-march-04-03-04-2016-3184
END:VEVENT

END:VCALENDAR
