BEGIN:VCALENDAR
VERSION:2.0
PRODID:-//ChamberMaster//Event Calendar 2.0//EN
METHOD:PUBLISH
X-PUBLISHED-TTL:P3D
REFRESH-INTERVAL:P3D
CALSCALE:GREGORIAN
BEGIN:VEVENT
DTSTART:20151209T173000Z
DTEND:20151209T190000Z
X-MICROSOFT-CDO-ALLDAYEVENT:FALSE
SUMMARY:New Member Orientation - Dec. 9
DESCRIPTION:Make plans to attend our new member orientation lunch on Wednesday\, Dec 9th.  Attending a Tech Titan new member orientation has a great impact on the benefits you receive from your Tech Titan membership.  Learn about all the activities at Tech Titans and develop your personal engagement plan for the ones that most interest you. You'll also meet other new members and staff of Tech Titans\, which will kick-start your Tech Titan network.  Remember to bring your business cards!\n\n\n\nBring as many of your colleagues as you like and we'll have lunch for everyone.  Just let us know who is coming so we have enough food.  Please register online or email your RSVP to Nicole.
X-ALT-DESC;FMTTYPE=text/html:<div><font size="2"><span style="font-stretch: normal\; font-size: 13px\; line-height: 20px\; color: rgb(128\, 128\, 128)\;">Make plans to attend our new member orientation lunch on Wednesday\, Dec 9th.&nbsp\; Attending a </span>Tech Titan<span style="font-stretch: normal\; font-size: 13px\; line-height: 20px\; color: rgb(128\, 128\, 128)\;"> new member orientation has a great impact on the benefits you receive from your </span><span style="font-stretch: normal\;">Tech Titan</span><span style="font-stretch: normal\; font-size: 13px\; line-height: 20px\; color: rgb(128\, 128\, 128)\;">&nbsp\;membership. &nbsp\;</span><span style="font-stretch: normal\; font-size: 13px\; line-height: 20px\; color: rgb(128\, 128\, 128)\;">Learn about all the activities at Tech Titans</span><span style="font-stretch: normal\; font-size: 13px\; line-height: 20px\; color: rgb(128\, 128\, 128)\;">&nbsp\;and develop your personal engagement plan for the ones that most interest you. You&#39\;ll also meet other new members and staff of Tech Titans</span><span style="font-stretch: normal\; font-size: 13px\; line-height: 20px\; color: rgb(128\, 128\, 128)\;">\, which will kick-start your </span><span style="font-stretch: normal\;">Tech Titan</span><span style="font-stretch: normal\; font-size: 13px\; line-height: 20px\; color: rgb(128\, 128\, 128)\;">&nbsp\;network. &nbsp\;Remember to bring your business cards!</span><br />\n<br style="font-stretch: normal\; font-size: 13px\; line-height: 20px\; color: rgb(128\, 128\, 128)\;" />\n<span style="font-family: Arial\, Helvetica\, sans-serif\; color: rgb(128\, 128\, 128)\; font-size: 10pt\;">Bring as many of your colleagues as you like and we&#39\;ll have lunch for everyone. &nbsp\;Just let us know who is coming so we have enough food. &nbsp\;Please register online or&nbsp\;email your RSVP to Nicole<span class="555431315-02022015">.</span></span></font></div>\n
LOCATION:Tech Titan Board Room - 411 Belle Grove Dr. Richardson\, TX. 75080
UID:e.9090.3146
SEQUENCE:3
DTSTAMP:20260422T223753Z
URL:https://business.techtitans.org/events/details/new-member-orientation-dec-9-12-09-2015-3146
END:VEVENT

END:VCALENDAR
