BEGIN:VCALENDAR
VERSION:2.0
PRODID:-//ChamberMaster//Event Calendar 2.0//EN
METHOD:PUBLISH
X-PUBLISHED-TTL:P3D
REFRESH-INTERVAL:P3D
CALSCALE:GREGORIAN
BEGIN:VEVENT
DTSTART:20150107T173000Z
DTEND:20150107T190000Z
X-MICROSOFT-CDO-ALLDAYEVENT:FALSE
SUMMARY:New Member Orientation - 2015 Jan. 7
DESCRIPTION:Make plans to attend our new member orientation lunch on Wednesday\, January 7. Attending a MTBC new member orientation has a great impact on the benefits you receive from your MTBC membership.\n\nLearn about all the activities at the MTBC and develop your personal engagement plan for the ones that most interest you. You'll also meet other new members and staff of the MTBC\, which will kick-start your MTBC network.\n\nBring as many of your colleagues as you like and we'll have lunch for everyone. Just let us know who is coming so we have enough food. Please RSVP to Sylvia.
X-ALT-DESC;FMTTYPE=text/html:<div style="color: gray\;">Make plans to attend our new member orientation lunch on Wednesday\, January 7. Attending a&nbsp\;MTBC new member orientation has a great&nbsp\;impact on the benefits you receive from your&nbsp\;MTBC membership.<br />\nLearn about all the activities at the&nbsp\;MTBC and develop your personal engagement plan for the ones that most interest you. You&#39\;ll also meet other new members and staff of the MTBC\, which will kick-start your&nbsp\;MTBC network.<br />\n<span style="font-family: Arial\, Helvetica\, sans-serif\; font-size: 10pt\;">Bring as many of your colleagues as you like and we&#39\;ll have&nbsp\;lunch for everyone. Just let us know who is coming&nbsp\;so we have enough food. Please RSVP to Sylvia.</span></div>\n
LOCATION:MTBC Board Room - 411 Belle Grove Dr. Richardson\, TX. 75080
UID:e.9090.3051
SEQUENCE:3
DTSTAMP:20260423T161023Z
URL:https://business.techtitans.org/events/details/new-member-orientation-2015-jan-7-01-07-2015-3051
END:VEVENT

END:VCALENDAR
