BEGIN:VCALENDAR
VERSION:2.0
PRODID:-//ChamberMaster//Event Calendar 2.0//EN
METHOD:PUBLISH
X-PUBLISHED-TTL:P3D
REFRESH-INTERVAL:P3D
CALSCALE:GREGORIAN
BEGIN:VEVENT
DTSTART:20150218T170000Z
DTEND:20150218T190000Z
X-MICROSOFT-CDO-ALLDAYEVENT:FALSE
SUMMARY:New Member Orientation - 2015 Feb 18
DESCRIPTION:Make plans to attend our new member orientation lunch on Wednesday\, February 18. Attending a MTBC new member orientation has a great impact on the benefits you receive from your MTBC membership.\n\nLearn about all the activities at the MTBC and develop your personal engagement plan for the ones that most interest you. You'll also meet other new members and staff of the MTBC\, which will kick-start your MTBC network.\n\nBring as many of your colleagues as you like and we'll have lunch for everyone. Just let us know who is coming so we have enough food. Please RSVP to Julie
X-ALT-DESC;FMTTYPE=text/html:<div><font size="2"><span style="font-stretch: normal\; font-size: 13px\; line-height: 20px\; color: rgb(128\, 128\, 128)\;">Make plans to attend our new member orientation lunch on Wednesday\, February 18.&nbsp\;Attending a </span>MTBC<span style="font-stretch: normal\; font-size: 13px\; line-height: 20px\; color: rgb(128\, 128\, 128)\;"> new member orientation has a great impact on the benefits you receive from your </span>MTBC<span style="font-stretch: normal\; font-size: 13px\; line-height: 20px\; color: rgb(128\, 128\, 128)\;"> membership.</span><br style="font-stretch: normal\; font-size: 13px\; line-height: 20px\; color: rgb(128\, 128\, 128)\;" />\n<span style="font-stretch: normal\; font-size: 13px\; line-height: 20px\; color: rgb(128\, 128\, 128)\;">Learn about all the activities at the </span>MTBC<span style="font-stretch: normal\; font-size: 13px\; line-height: 20px\; color: rgb(128\, 128\, 128)\;"> and develop your personal engagement plan for the ones that most interest you. You&#39\;ll also meet other new members and staff of the </span>MTBC<span style="font-stretch: normal\; font-size: 13px\; line-height: 20px\; color: rgb(128\, 128\, 128)\;">\, which will kick-start your </span>MTBC<span style="font-stretch: normal\; font-size: 13px\; line-height: 20px\; color: rgb(128\, 128\, 128)\;"> network.</span><br style="font-stretch: normal\; font-size: 13px\; line-height: 20px\; color: rgb(128\, 128\, 128)\;" />\n<span style="font-family: Arial\, Helvetica\, sans-serif\; color: rgb(128\, 128\, 128)\; font-size: 10pt\;">Bring as many of your colleagues as you like and we&#39\;ll have lunch for everyone. Just let us know who is coming so we have enough food. Please RSVP to <span class="555431315-02022015">Julie</span></span></font></div>\n
LOCATION:MTBC Board Room - 411 Belle Grove Dr. Richardson\, TX. 75080
UID:e.9090.3087
SEQUENCE:3
DTSTAMP:20260423T130236Z
URL:https://business.techtitans.org/events/details/new-member-orientation-2015-feb-18-02-18-2015-3087
END:VEVENT

END:VCALENDAR
