BEGIN:VCALENDAR
VERSION:2.0
PRODID:-//ChamberMaster//Event Calendar 2.0//EN
METHOD:PUBLISH
X-PUBLISHED-TTL:P3D
REFRESH-INTERVAL:P3D
CALSCALE:GREGORIAN
BEGIN:VEVENT
DTSTART:20141006T163000Z
DTEND:20141006T180000Z
X-MICROSOFT-CDO-ALLDAYEVENT:FALSE
SUMMARY:MTBC Lunch at Comptel Convention Oct. 6
DESCRIPTION:Featuring keynote speaker FCC Chairman Tom Wheeler\n\n\n\nIncludes:\n\n\n	MTBC monthly member luncheon (featuring Milo Medin\, CEO\, Google Fiber)\n	Access to EXPO Hall (discounted booths are still available)\n	All educational sessions\n	Monday evening networking party\n\n\n\nTwo-Day Pass also includes:\n\n\n	MTBC-hosted session on cybersecurity\n	Access to EXPO Hall and free lunch\n\nAll educational sessions\n\n\n\nClick here to view flyer
X-ALT-DESC;FMTTYPE=text/html:<strong>Featuring keynote speaker FCC Chairman Tom Wheeler<br />\n<br />\nIncludes:</strong>\n\n<ul>\n	<li>MTBC monthly member luncheon (featuring Milo Medin\, CEO\, Google Fiber)</li>\n	<li>Access to EXPO Hall&nbsp\;(discounted booths are still available)</li>\n	<li>All educational sessions</li>\n	<li>Monday evening networking party</li>\n</ul>\n<br />\n<strong>Two-Day Pass also includes:</strong>\n\n<ul>\n	<li>MTBC-hosted session on cybersecurity</li>\n	<li>Access to EXPO Hall and free lunch</li>\n</ul>\nAll educational sessions<br />\n<br />\n<a href="http://metroplextbc.le8.getliveedit.com/files/1243.pdf"><strong>Click here to view flyer</strong></a>
LOCATION:Gaylord Texan Resort and Convention Center 1501 Gaylord Trail\, Grapevine\, TX 76051 Longhorn Exhibit Hall
UID:e.9090.3032
SEQUENCE:3
DTSTAMP:20260423T191542Z
URL:https://business.techtitans.org/events/details/mtbc-lunch-at-comptel-convention-oct-6-10-06-2014-3032
END:VEVENT

END:VCALENDAR
