BEGIN:VCALENDAR
VERSION:2.0
PRODID:-//ChamberMaster//Event Calendar 2.0//EN
METHOD:PUBLISH
X-PUBLISHED-TTL:P3D
REFRESH-INTERVAL:P3D
CALSCALE:GREGORIAN
BEGIN:VEVENT
DTSTART:20140508T223000Z
DTEND:20140509T000000Z
X-MICROSOFT-CDO-ALLDAYEVENT:FALSE
SUMMARY:MTBC Connections Happy Hour -May 8
DESCRIPTION:Connect with other tech enthusiasts in real-time and face-to-face at the monthly happy hour for MTBC. Held the second Thursday of the month\, MTBC Connections gives you the opportunity to meet other tech playmakers in DFW\, reconnect with past partners\, and find out the latest happenings in the DFW tech scene.
X-ALT-DESC;FMTTYPE=text/html:<div style="font-family: Arial\;">\n<div style="color: gray\;"><font size="2">Connect with other tech enthusiasts in real-time and face-to-face at the monthly happy hour for MTBC. Held the second Thursday of the month\, MTBC Connections gives you the opportunity to meet other tech playmakers in DFW\, reconnect with past partners\, and find out the latest happenings in the DFW tech scene.</font></div>\n\n<p>&nbsp\;</p>\n\n<p class="MsoNormal" style="margin: 0in 0in 0pt\;">&nbsp\;</p>\n\n<p class="MsoNormal" style="margin: 0in 0in 0pt\;">&nbsp\;</p>\n\n<p class="MsoNormal" style="margin: 0in 0in 0pt\;">&nbsp\;</p>\n\n<p>&nbsp\;</p>\n\n<p class="MsoNormal" style="margin: 0in 0in 0pt\;">&nbsp\;</p>\n\n<p class="MsoNormal" style="margin: 0pt\; mso-margin-bottom-alt: auto\;">&nbsp\;</p>\n</div>\n
LOCATION:New Horizons Computer Learning Center 150 West John Carpenter Frwy ste 100 Dallas http://www.nhcomputerlearning.com/dallas/index.html
UID:e.9090.2848
SEQUENCE:3
DTSTAMP:20260424T024634Z
URL:https://business.techtitans.org/events/details/mtbc-connections-happy-hour-may-8-05-08-2014-2848
END:VEVENT

END:VCALENDAR
