BEGIN:VCALENDAR
VERSION:2.0
PRODID:-//ChamberMaster//Event Calendar 2.0//EN
METHOD:PUBLISH
X-PUBLISHED-TTL:P3D
REFRESH-INTERVAL:P3D
CALSCALE:GREGORIAN
BEGIN:VEVENT
DTSTART:20141121T173000Z
DTEND:20141121T190000Z
X-MICROSOFT-CDO-ALLDAYEVENT:FALSE
SUMMARY:MTBC Advocacy Team - Nov 21
DESCRIPTION:MTBC Advocacy Team meeting -\n\nMeeting Agenda - Dana Chiodo\, will give us a Post Election Summary\; MTBC's draft Legislative Agenda\n\nPlease join us!
X-ALT-DESC;FMTTYPE=text/html:<font color="#808080">MTBC Advocacy Team meeting -<br />\nMeeting Agenda - Dana Chiodo\, will give us a Post Election Summary\; MTBC&#39\;s draft Legislative Agenda<br />\nPlease join us!</font>
LOCATION:This meeting has been changed to a conference call. There will not be an in-person meeting this month.....only a call in. Please use the conference bridge: 800-326-0013\; Conf ID 3217123
UID:e.9090.3035
SEQUENCE:3
DTSTAMP:20260423T191759Z
URL:https://business.techtitans.org/events/details/mtbc-advocacy-team-nov-21-11-21-2014-3035
END:VEVENT

END:VCALENDAR
