BEGIN:VCALENDAR
VERSION:2.0
PRODID:-//ChamberMaster//Event Calendar 2.0//EN
METHOD:PUBLISH
X-PUBLISHED-TTL:P3D
REFRESH-INTERVAL:P3D
CALSCALE:GREGORIAN
BEGIN:VEVENT
DTSTART:20150311T163000Z
DTEND:20150311T180000Z
X-MICROSOFT-CDO-ALLDAYEVENT:FALSE
SUMMARY:MTBC Advocacy Team - March 11
DESCRIPTION:MTBC Advocacy Team meeting will be Wednesday March 11th. Guest Speaker will be Representative Jason Villalba. The team will get a briefing on a bill that is being filed by Rep. Villalba that will help encourage business growth in Texas by creating a Chancery Court system\, such as they have in Delaware\, to streamline and improve business litigation\, and encourage more companies to incorporate in Texas.
X-ALT-DESC;FMTTYPE=text/html:MTBC Advocacy Team meeting will be Wednesday March 11th. Guest Speaker&nbsp\;will be Representative Jason Villalba.&nbsp\;The team will get a briefing on a bill that is being filed by Rep. Villalba that will help encourage business growth in Texas by creating a Chancery Court system\, such as they have in Delaware\, to streamline and improve business litigation\, and encourage more companies to incorporate in Texas.&nbsp\; <o:p></o:p>
LOCATION:MTBC Office 411 Belle Grove Dr. Richardson\, TX 75080 or call in if you cannot attend in person 800-326-0013 Conf ID: 3217123
UID:e.9090.3100
SEQUENCE:3
DTSTAMP:20260423T113207Z
URL:https://business.techtitans.org/events/details/mtbc-advocacy-team-march-11-03-11-2015-3100
END:VEVENT

END:VCALENDAR
