BEGIN:VCALENDAR
VERSION:2.0
PRODID:-//ChamberMaster//Event Calendar 2.0//EN
METHOD:PUBLISH
X-PUBLISHED-TTL:P3D
REFRESH-INTERVAL:P3D
CALSCALE:GREGORIAN
BEGIN:VEVENT
DTSTART:20260924T220000Z
DTEND:20260925T000000Z
X-MICROSOFT-CDO-ALLDAYEVENT:FALSE
SUMMARY:Member Connections
DESCRIPTION:Member Connections is our after-hours networking event hosted quarterly by member companies.
X-ALT-DESC;FMTTYPE=text/html:Member Connections is our after-hours networking event hosted quarterly by member companies.
LOCATION:Forvis Mazars 14221 North Dallas Parkway\, Dallas\, TX 75254
UID:e.9090.4904
SEQUENCE:3
DTSTAMP:20260419T150433Z
URL:https://business.techtitans.org/events/details/member-connections-happy-hour-4904
END:VEVENT

END:VCALENDAR
