BEGIN:VCALENDAR
VERSION:2.0
PRODID:-//ChamberMaster//Event Calendar 2.0//EN
METHOD:PUBLISH
X-PUBLISHED-TTL:P3D
REFRESH-INTERVAL:P3D
CALSCALE:GREGORIAN
BEGIN:VEVENT
DTSTART:20200121T190000Z
DTEND:20200121T233000Z
X-MICROSOFT-CDO-ALLDAYEVENT:FALSE
SUMMARY:*Machine Learning\, 2thedge\, Jan. 21
DESCRIPTION:How can Machine Learning work for innovation companies of today and tomorrow?  Find out the good\, the bad and the ugly about the future of this business-changing technology.  \n\n\n\nPanelists for this exclusive event represent some of the world's most innovative and Machine Learning-immersed companies including:\n\nEZ Corp\, Mitre\, Stealth Monitoring and Georgia-Pacific\, among others.
X-ALT-DESC;FMTTYPE=text/html:How can Machine Learning work for innovation companies of today and tomorrow?&nbsp\; Find out the good\, the bad and the ugly about the future of this business-changing technology.&nbsp\;&nbsp\;<br />\n<br />\nPanelists for this exclusive event represent some of the world&#39\;s most innovative and Machine Learning-immersed companies including:<br />\nEZ Corp\, Mitre\, Stealth&nbsp\;Monitoring and Georgia-Pacific\, among others.<br />\n<br />\n&nbsp\;
LOCATION:Capital Factory 3102 Oak Lawn Ave. Dallas\, TX 75219
UID:e.9090.4564
SEQUENCE:3
DTSTAMP:20260421T135307Z
URL:https://business.techtitans.org/events/details/machine-learning-2thedge-jan-21-4564
END:VEVENT

END:VCALENDAR
