BEGIN:VCALENDAR
VERSION:2.0
PRODID:-//ChamberMaster//Event Calendar 2.0//EN
METHOD:PUBLISH
X-PUBLISHED-TTL:P3D
REFRESH-INTERVAL:P3D
CALSCALE:GREGORIAN
BEGIN:VEVENT
DTSTART:20170228T180000Z
DTEND:20170301T200000Z
X-MICROSOFT-CDO-ALLDAYEVENT:FALSE
SUMMARY:Legislative Day - Feb 28 - Mar 1
DESCRIPTION:Tech Titans is partnering with the Richardson Chamber of Commerce to provide members of the tech community and local businesspeople with the opportunity to visit the state capitol and better understand the legislative process. Participants network with community leaders\, hear from representatives and key state officials\, attend committee hearings and visit various legislators. Whether you are heavily involved in politics or just have a basic understanding\, Legislative Day is a great opportunity to represent the tech community in Austin.\n\n\n\nCheck-in begins at the host hotel in Downtown Austin:\n\nHampton Inn & Suites Austin @ The University/Capitol\n\n1701 Lavaca Street\n\nAustin\, TX 78701\n\nPhone: 512-499-8881\n\n\n\nAdditional speakers\, events and itinerary to be announced.\n\n\n\nDeadline for registration: Tuesday\, February 21\, 2017
X-ALT-DESC;FMTTYPE=text/html:Tech Titans is partnering with the Richardson Chamber of Commerce to provide members of the tech community and local businesspeople with the opportunity to visit the state capitol and better understand the legislative process. Participants network with community leaders\, hear from representatives and key state officials\, attend committee hearings and visit various legislators. Whether you are heavily involved in politics or just have a basic understanding\, Legislative Day is a great opportunity to represent the tech community in Austin.<br />\n<br />\nCheck-in begins at the host hotel in Downtown Austin:<br />\nHampton Inn &amp\; Suites Austin @ The University/Capitol<br />\n1701 Lavaca Street<br />\nAustin\, TX 78701<br />\nPhone: 512-499-8881<br />\n<br />\nAdditional speakers\, events and itinerary to be announced.<br />\n<br />\nDeadline for registration: Tuesday\, February 21\, 2017
LOCATION:Hampton Inn & Suites Austin @ The University/Capitol 1701 Lavaca Street Austin\, TX 78701 Phone: 512-499-8881 Reservation Code: RCC Special Group Rates are $199 per night\, plus tax and parking fees ($19 per day) Deadline to receive group rate: Feb. 7\, 2017
UID:e.9090.3298
SEQUENCE:3
DTSTAMP:20260421T204809Z
URL:https://business.techtitans.org/events/details/legislative-day-feb-28-mar-1-3298
END:VEVENT

END:VCALENDAR
