BEGIN:VCALENDAR
VERSION:2.0
PRODID:-//ChamberMaster//Event Calendar 2.0//EN
METHOD:PUBLISH
X-PUBLISHED-TTL:P3D
REFRESH-INTERVAL:P3D
CALSCALE:GREGORIAN
BEGIN:VEVENT
DTSTART:20181102T180000Z
DTEND:20181102T230000Z
X-MICROSOFT-CDO-ALLDAYEVENT:FALSE
SUMMARY:Kickball Tournament - Nov. 2
DESCRIPTION:Tech Titans NextGen and Richardson Young Professionals invite you to grab some friends or coworkers and come out to enjoy a day of friendly competition and fun! Who will be the last team standing for the first ever kickball tournament?\n\n\n\nDOWNLOAD KICKBALL RULES AND REQUIREMENTS\n\n\n\nSponsorships are availble!
X-ALT-DESC;FMTTYPE=text/html:<span style="color: rgb(64\, 63\, 66)\; font-family: Arial\; font-size: 13.3333px\; line-height: normal\;">Tech Titans NextGen and Richardson Young Professionals invite you to grab some friends or coworkers and come out to enjoy a day of friendly competition and fun! Who will be the last team standing for the first ever kickball tournament?<br />\n<br />\n<a href="http://files.constantcontact.com/fb84e3b9001/358d5d17-086e-458a-a0f5-1081b706d343.pdf">DOWNLOAD KICKBALL RULES AND REQUIREMENTS</a></span><br />\n<br />\n<span style="color:#403F42\;"><span style="font-family:arial\,sans-serif\;"><span style="font-size:10.0pt\;">Sponsorships are <a href="http://files.constantcontact.com/fb84e3b9001/4cbba781-2955-4026-8832-8e279b0becd7.pdf">availble</a>!</span></span></span>
LOCATION:UT Dallas Multipurpose Field 800 W Campbell Rd. Richardson\, TX 75080
UID:e.9090.4453
SEQUENCE:3
DTSTAMP:20260420T131602Z
URL:https://business.techtitans.org/events/details/kickball-tournament-nov-2-4453
END:VEVENT

END:VCALENDAR
