BEGIN:VCALENDAR
VERSION:2.0
PRODID:-//ChamberMaster//Event Calendar 2.0//EN
METHOD:PUBLISH
X-PUBLISHED-TTL:P3D
REFRESH-INTERVAL:P3D
CALSCALE:GREGORIAN
BEGIN:VEVENT
DTSTART:20181012T140000Z
DTEND:20181012T170000Z
X-MICROSOFT-CDO-ALLDAYEVENT:FALSE
SUMMARY:*JETRO Symposium on Asia-Pacific Economic Integration\, Oct. 12
DESCRIPTION:Experts from South East Asia\, China\, Japan and the U.S. will examine the current status and future outlook for bilateral & multilateral free trade agreements in the Pacific. Their insights and perspectives will develop into a dialogue which will be of particular significance to the North Texas business community with business and investment interests in the Asia-Pacific region. \n\n\n\nKeynote speakers: \n\nHiroyuki Ishige\, Chairman and CEO\, JETRO\nManaging Director\, The George W. Bush Institute-SMU Economic Growth Initiative\n\n\n\nPanelists:\n\nYsau Ota\, Editorial Writer\, Nikkei Inc. \n\nApiradi Tantraporn\, Editorial Writer\, Nikkei Inc. \n\nWang Yong\, Peking University\n\nWendy Cutler\, Asia Society Policy Institute
X-ALT-DESC;FMTTYPE=text/html:<span style="font-size: 12px\;"><span style="font-family: verdana\;"><span style="background-color: transparent\; color: rgb(0\, 0\, 0)\; font-variant-numeric: normal\; font-variant-east-asian: normal\;">Experts from South East Asia\, China\, Japan and the U.S. will examine the current status and future outlook for bilateral &amp\; multilateral free trade agreements in the Pacific. Their insights and perspectives will develop into a dialogue which will be of particular significance to the North Texas business community with business and investment interests in the Asia-Pacific region.&nbsp\;</span></span></span><br />\n<br />\n<em><strong>Keynote speakers:&nbsp\;</strong></em><br />\n<span style="font-size: 12px\;"><span style="font-family: verdana\;"><strong>Hiroyuki Ishige</strong>\,<span style="background-color: transparent\; color: rgb(0\, 0\, 0)\; font-variant-numeric: normal\; font-variant-east-asian: normal\;">&nbsp\;Chairman and CEO\, JETRO</span></span></span>\n<p style="font-variant-numeric: normal\; font-variant-east-asian: normal\; background-color: transparent\; color: rgb(0\, 0\, 0)\; font-size: 14px\; margin: 0px\; padding: 0px\;"><span style="font-size: 12px\;"><span style="font-family: verdana\;"><span style="margin: 0px\; padding: 0px\;"><strong>Managing Director\,</strong>&nbsp\;The George W. Bush Institute-SMU Economic Growth Initiative<br />\n<br />\n<em><strong>Panelists:</strong></em><br />\n<strong>Ysau Ota</strong>\,&nbsp\;</span><span style="background-color: transparent\; font-variant-numeric: normal\; font-variant-east-asian: normal\;">Editorial Writer\, Nikkei Inc.&nbsp\;<br />\n<strong>Apiradi Tantraporn</strong>\,&nbsp\;Editorial Writer\, Nikkei Inc.&nbsp\;</span><br />\n<strong>Wang Yong\,</strong>&nbsp\;Peking University<br />\n<strong>Wendy Cutler</strong>\, Asia Society Policy Institute</span></span></p>\n\n<div>&nbsp\;</div>\n
LOCATION:Westin Stonebriar Hotel 1549 Legacy Dr. Frisco 75034
UID:e.9090.4454
SEQUENCE:3
DTSTAMP:20260420T144448Z
URL:https://business.techtitans.org/events/details/jetro-symposium-on-asia-pacific-economic-integration-oct-12-4454
END:VEVENT

END:VCALENDAR
