BEGIN:VCALENDAR
VERSION:2.0
PRODID:-//ChamberMaster//Event Calendar 2.0//EN
METHOD:PUBLISH
X-PUBLISHED-TTL:P3D
REFRESH-INTERVAL:P3D
CALSCALE:GREGORIAN
BEGIN:VEVENT
DTSTART:20160128T133000Z
DTEND:20160128T150000Z
X-MICROSOFT-CDO-ALLDAYEVENT:FALSE
SUMMARY:IoT Roundtable Breakfast Series- Jan. 28
DESCRIPTION:SOLD OUT!\n\n\n\nLow Power Wide Area Networks   Exciting Possibilities for Smart Cities\n\nFeaturing: Ed Hightower\, Technical Solutions Manager at IoT and Beyond\n\n\n\n"Smart Cities" is one of the promising areas expected to drive the projected growth in Internet of Things (IoT). Smart Cities applications have unique requirements on wireless connectivity technologies. This presentation will identify some of these unique requirements and describe the several new and innovative approaches coming to market that will shortly provide viable alternatives to the traditional cellular\, Wi-Fi\, Bluetooth\, private-radio and satellite networks that Machine-to-Machine (M2M) and IoT have relied on in the past. The new networks are called Low Power Wide Area Networks (LPWANs) and come in many flavors. Some are being implemented now while others are working their way through standards committees and will soon be available for implementation.\n\n\n\nThis presentation will give a brief history of M2M and IoT and break down IoT into three high-level components: devices\; connectivity/wireless networks\; and back-end systems. The emphasis will be on the emerging technologies and protocols that will enable Smart Cities via LPWANs.
X-ALT-DESC;FMTTYPE=text/html:<strong><span style="color:#FF0000\;"><span style="font-size: 20px\;">SOLD OUT!</span></span><br />\n<br />\nLow Power Wide Area Networks &ndash\; Exciting Possibilities for Smart Cities</strong><br />\n<span style="font-family:arial\;"><span style="font-size: 12px\;">Featuring:<strong> Ed Hightower\, </strong>Technical Solutions Manager at IoT and Beyond</span></span><br />\n<br />\n&ldquo\;Smart Cities&rdquo\; is one of the promising areas expected to drive the projected growth in Internet of Things (IoT). Smart Cities applications have unique requirements on wireless connectivity technologies. This presentation will identify some of these unique requirements and describe the several new and innovative approaches coming to market that will shortly provide viable alternatives to the traditional cellular\, Wi-Fi\, Bluetooth\, private-radio and satellite networks that Machine-to-Machine (M2M) and IoT have relied on in the past. The new networks are called <strong>Low Power Wide Area Networks</strong> <strong>(LPWANs)</strong> and come in many flavors. Some are being implemented now while others are working their way through standards committees and will soon be available for implementation.<br />\n<br />\nThis presentation will give a brief history of M2M and IoT and break down IoT into three high-level components: devices\; connectivity/wireless networks\; and back-end systems. The emphasis will be on the emerging technologies and protocols that will enable Smart Cities via LPWANs.
LOCATION:Tech Titans board room 411 Belle Grove Dr. Richardson 75080
UID:e.9090.3168
SEQUENCE:3
DTSTAMP:20260422T205736Z
URL:https://business.techtitans.org/events/details/iot-roundtable-breakfast-series-jan-28-01-28-2016-3168
END:VEVENT

END:VCALENDAR
