BEGIN:VCALENDAR
VERSION:2.0
PRODID:-//ChamberMaster//Event Calendar 2.0//EN
METHOD:PUBLISH
X-PUBLISHED-TTL:P3D
REFRESH-INTERVAL:P3D
CALSCALE:GREGORIAN
BEGIN:VEVENT
DTSTART:20160428T123000Z
DTEND:20160428T140000Z
X-MICROSOFT-CDO-ALLDAYEVENT:FALSE
SUMMARY:IoT Roundtable Breakfast Series- April 28
DESCRIPTION:"Oncor's transition to data & analytics"\n\nFeaturing Mark Carpenter\, Sr. Vice President\, Transmission & Distribution Operations at Oncor\n\n \n\nOver the last decade\, IT and communication technologies have enabled electric utilities to gather significantly more information than in previous periods. This has enabled expansion of automations systems and integrations between them\, provided multiple analytic opportunities\, and caused an blurry line between  traditional Information Technology and Operations Technology. This talk will cover this transition and what the future hold in this area.
X-ALT-DESC;FMTTYPE=text/html:<br />\n<span style="font-size:14px\;"><strong><span style="color: rgb(50\, 50\, 118)\; line-height: 22px\;">&quot\;Oncor&#39\;s transition to data &amp\; analytics&quot\;</span></strong><br style="box-sizing: border-box\; color: rgb(50\, 50\, 118)\; font-family: Calibri\, Candara\, Segoe\, 'Segoe UI'\, Optima\, Arial\, sans-serif\; font-size: 16px\; line-height: 22px\;" />\n<span style="color:#000000\;"><span style="line-height: 22px\;">Featuring <strong>Mark&nbsp\;Carpenter</strong></span><span style="line-height: 22px\;">\,&nbsp\;</span>Sr. Vice President\, Transmission &amp\; Distribution Operations at <strong>Oncor</strong></span></span><br />\n<span style="color: rgb(50\, 50\, 118)\; font-family: Calibri\, Candara\, Segoe\, 'Segoe UI'\, Optima\, Arial\, sans-serif\; font-size: 16px\; line-height: 22px\;">&#8203\;</span><br />\n<span style="color:#000000\;">Over the last decade\, IT and communication technologies have enabled electric utilities to gather significantly more information than in previous periods. This has enabled expansion of automations systems and integrations between them\, provided multiple analytic opportunities\, and caused an blurry line between &nbsp\;traditional Information Technology and Operations Technology. This talk will cover this transition and what the future hold in this area.</span><br />\n&nbsp\;
LOCATION:Tech Titans board room 411 Belle Grove Dr. Richardson 75080
UID:e.9090.3197
SEQUENCE:3
DTSTAMP:20260422T172432Z
URL:https://business.techtitans.org/events/details/iot-roundtable-breakfast-series-april-28-04-28-2016-3197
END:VEVENT

END:VCALENDAR
