BEGIN:VCALENDAR
VERSION:2.0
PRODID:-//ChamberMaster//Event Calendar 2.0//EN
METHOD:PUBLISH
X-PUBLISHED-TTL:P3D
REFRESH-INTERVAL:P3D
CALSCALE:GREGORIAN
BEGIN:VEVENT
DTSTART:20161117T133000Z
DTEND:20161117T150000Z
X-MICROSOFT-CDO-ALLDAYEVENT:FALSE
SUMMARY:IoT Roundtable Breakfast - Nov. 17
DESCRIPTION:"Unlocking the potential of IT & OT Convergence"\n\nFeaturing Sam Cessna\, VP of Sales PTC-ThingWorx\n\n\n\n\n\nThe Internet of Things (IoT) brings the promise of endless possibilities\, endless opportunities and more as the physical and digital worlds unite.  But how does this physical and digital transformation impact the convergence of IT and OT? By their mere existence\, IoT enabled devices\, products and systems blur the lines between traditional IT and OT.  These devices enable a tremendous feast of connectivity\, functionality\, insights\, analytics\, predictions and awareness that challenge traditional infrastructure and operations.\n\n \n\nWhat new realities will be created in manufacturing as a result of these massive worlds of IT and OT colliding? Come with us as we explore this topic and its potential impact to manufacturing segment as we discuss Unlocking the potential of IT and OT convergence.\n\n\n\n\n\nAbout the speaker:\n\nSam has over 20 years of industry expertise leading diverse delivery teams of software\, services and hardware solutions in a wide range of mission critical applications leveraging emerging technologies. Historically Sam has lead significant revenue growth especially in emerging markets utilizing his experience of the IoT\, M2M\, Manufacturing Intelligence\, Automation\, Controls and SCADA markets where he helped build some of the industry's most highly regarded products. Sam has held many leadership roles at ThingWorx for the past 5 years while pioneering the use of IoT technologies in traditional Industrial markets. Prior to ThingWorx\, Sam held leadership positions at Progressive Software Solutions\, Wonderware\, Standard Automation & Controls\, Fairchild Systems and Texas Instruments.
X-ALT-DESC;FMTTYPE=text/html:<br />\n<br />\n<span style="font-family:arial\;"><strong><span style="color:#000000\;"><span style="font-size:12.0pt\;">&ldquo\;Unlocking the potential of IT &amp\; OT Convergence&rdquo\;</span></span></strong><br />\n<span style="color:#000000\;"><span style="font-size:14px\;"><span style="line-height: 22.4px\;">Featuring&nbsp\;</span><strong>Sam Cessna</strong>\, VP of Sales PTC-ThingWorx</span></span><br />\n<br />\n<br />\n<span style="color:black\;">The Internet of Things (IoT) brings the promise of endless possibilities\, endless opportunities and more as the physical and digital worlds unite.&nbsp\; But how does this physical and digital transformation impact the convergence of IT and OT? By their mere existence\, IoT enabled devices\, products and systems blur the lines between traditional IT and OT.&nbsp\; These devices enable a tremendous feast of connectivity\, functionality\, insights\, analytics\, predictions and awareness that challenge traditional infrastructure and operations.</span><br />\n&nbsp\;<br />\n<span style="color:black\;">What new realities will be created in manufacturing as a result of these massive worlds of IT and OT colliding? Come with us as we explore this topic and its potential impact to manufacturing segment as we discuss Unlocking the potential of IT and OT convergence.</span></span><br />\n<br />\n<br />\n<span style="font-size:16px\;"><strong><u>About the speaker:</u></strong></span><br />\n<span style="font-family:arial\;"><span style="color:black\;"><span style="font-size:10.0pt\;">Sam has over 20 years of industry expertise leading diverse delivery teams of software\, services and hardware solutions in a wide range of mission critical applications leveraging emerging technologies. Historically Sam has lead significant revenue growth especially in emerging markets utilizing his experience of the IoT\, M2M\, Manufacturing Intelligence\, Automation\, Controls and SCADA markets where he helped build some of the industry&#39\;s most highly regarded products. Sam has held many leadership roles at ThingWorx for the past 5 years while pioneering the use of IoT technologies in traditional Industrial markets. Prior to ThingWorx\, Sam held leadership positions at Progressive Software Solutions\, Wonderware\, Standard Automation &amp\; Controls\, Fairchild Systems and Texas Instruments.</span></span></span>
LOCATION:The University of Texas at Dallas Synergy Park North (SPN) building- Seminar room SPN 1.121 3000 Waterview Parkway Richardson\, TX 75080
UID:e.9090.3275
SEQUENCE:3
DTSTAMP:20260422T043507Z
URL:https://business.techtitans.org/events/details/iot-roundtable-breakfast-nov-17-3275
END:VEVENT

END:VCALENDAR
