BEGIN:VCALENDAR
VERSION:2.0
PRODID:-//ChamberMaster//Event Calendar 2.0//EN
METHOD:PUBLISH
X-PUBLISHED-TTL:P3D
REFRESH-INTERVAL:P3D
CALSCALE:GREGORIAN
BEGIN:VEVENT
DTSTART:20170126T133000Z
DTEND:20170126T150000Z
X-MICROSOFT-CDO-ALLDAYEVENT:FALSE
SUMMARY:IoT Roundtable Breakfast - Jan. 26
DESCRIPTION:"Driving innovation in retail with IoT"\n\nFeaturing Scott Emmons\, Head of Innovation Lab\, Neiman Marcus\n\n\n\nThis session will include an overview of the Neiman Marcus Innovation Lab and how technology projects are vetted and delivered.  We will look at our Beacon and Theatro communicator Projects to frame a discussion around IOT in retail innovation. Discussion will include new opportunities and challenges IOT brings to the table.  Chris Todd\, CEO of Theatro will be joining in this conversation. \n\n\n\n\n\n\n\nAbout the speaker:\n\nScott Emmons is focused on innovation for the Neiman Marcus Group (NMG). He founded and built the innovation lab (iLab) in 2012. Scott is responsible for leading NMG in evaluating\, designing\, testing and piloting cutting-edge technologies and applications for luxury retail. Scott is also working on BYOD initiatives\, Wi-Fi/LAN/WAN infrastructure\, mobility and digital signage initiatives. Innovation projects include the Memomi Memory Mirror\, 4K touch table look books\, beacon enabled holiday passes\, intelligent mobile phone charging stations and digital directories for Bergdorf Goodman.
X-ALT-DESC;FMTTYPE=text/html:<br />\n<br />\n<span style="color:#000000\;"><span style="font-family:arial\;"><strong><span style="font-size:12.0pt\;">&ldquo\;Driving innovation in retail with IoT&rdquo\;</span></strong><br />\n<span style="font-size:14px\;"><span style="line-height: 22.4px\;">Featuring <b>Scott Emmons\, </b>Head of Innovation Lab\, Neiman Marcus</span></span></span><br />\n<br />\n<span style="font-size:14px\;">This session will include an overview of the Neiman Marcus Innovation Lab and how technology projects are vetted and delivered. &nbsp\;We will look at our Beacon and Theatro communicator Projects to frame a discussion around IOT in retail innovation. Discussion will include new opportunities and challenges IOT brings to the table. &nbsp\;Chris Todd\, CEO of Theatro will be joining in this conversation.&nbsp\;</span><br />\n<br />\n<br />\n<br />\n<span style="font-family:arial\;"><span style="font-size:16px\;"><strong><u>About the speaker:</u></strong></span></span><br />\n<span style="font-size:14px\;">Scott Emmons is focused on innovation for the Neiman Marcus Group (NMG). He founded and built the innovation lab (iLab) in 2012. Scott is responsible for leading NMG in evaluating\, designing\, testing and piloting cutting-edge technologies and applications for luxury retail. Scott is also working on BYOD initiatives\, Wi-Fi/LAN/WAN infrastructure\, mobility and digital signage initiatives. Innovation projects include the Memomi Memory Mirror\, 4K touch table look books\, beacon enabled holiday passes\, intelligent mobile phone charging stations and digital directories for Bergdorf Goodman.&nbsp\;</span></span>
LOCATION:The University of Texas at Dallas Synergy Park North (SPN) building- Seminar room SPN 1.121 3000 Waterview Parkway Richardson\, TX 75080
UID:e.9090.3300
SEQUENCE:3
DTSTAMP:20260422T012059Z
URL:https://business.techtitans.org/events/details/iot-roundtable-breakfast-jan-26-3300
END:VEVENT

END:VCALENDAR
