BEGIN:VCALENDAR
VERSION:2.0
PRODID:-//ChamberMaster//Event Calendar 2.0//EN
METHOD:PUBLISH
X-PUBLISHED-TTL:P3D
REFRESH-INTERVAL:P3D
CALSCALE:GREGORIAN
BEGIN:VEVENT
DTSTART:20170323T123000Z
DTEND:20170323T140000Z
X-MICROSOFT-CDO-ALLDAYEVENT:FALSE
SUMMARY:IoT/Health Tech Roundtable Breakfast - March 23
DESCRIPTION:"Using sensors for digital patient engagement"\n\nFeaturing Maria Schneider\, CEO and co-founder\, Dynofit Inc.\n\n \n\nThe American health care system is in transition.  A key component of the change is shifting more accountability for personal health to the patient and moving longer term patient recovery and rehab into lower cost settings.  Biometric sensors will provide the medical data and cell phones and mobile systems will provide communication and connection to the health care teams in the new paradigm.  This talk will explore the practical uses for sensors in digital patient engagement.\n\n \n\n\n\n\n\nAbout the speaker:\n\nMaria Schneider is CEO and co-founder of Dynofit\, Inc\, a digital health startup developing and commercializing wireless sensors as inputs to personal health\, rehabilitation and recovery.  She is a biomedical engineer with additional degrees in electrical engineering and physics who has worked at NASA and Bell Labs.  Her passion for using technology to support patients to understand and control their own health comes from having a special needs son.
X-ALT-DESC;FMTTYPE=text/html:<div><br />\n<br />\n<span style="font-family:arial\;"><span style="color:#000000\;"><span style="font-size:14px\;"><strong>&quot\;Using sensors for digital patient engagement&quot\;</strong><br />\nFeaturing <strong>Maria Schneider</strong>\, CEO and co-founder\, <strong>Dynofit Inc.</strong></span><br />\n&nbsp\;<br />\nThe American health care system is in transition.&nbsp\; A key component of the change is shifting more accountability for personal health to the patient and moving longer term patient recovery and rehab into lower cost settings.&nbsp\; Biometric sensors will provide the medical data and cell phones and mobile systems will provide communication and connection to the health care teams in the new paradigm.&nbsp\; This talk will explore the practical uses for sensors in digital patient engagement.<br />\n&nbsp\;<br />\n<br />\n<br />\n<strong>About the speaker:</strong><br />\nMaria Schneider is CEO and co-founder of Dynofit\, Inc\, a digital health startup developing and commercializing wireless sensors as inputs to personal health\, rehabilitation and recovery.&nbsp\; She is a biomedical engineer with additional degrees in electrical engineering and physics who has worked at NASA and Bell Labs.&nbsp\; Her passion for using technology to support patients to understand and control their own health comes from having a special needs son.</span></span><br />\n&nbsp\;</div>\n
LOCATION:BravoTech ( Heritage One Building) 4835 LBJ Freeway\, Floor 10 Dallas\, TX 75244
UID:e.9090.3319
SEQUENCE:3
DTSTAMP:20260421T223927Z
URL:https://business.techtitans.org/events/details/iot-health-tech-roundtable-breakfast-march-23-3319
END:VEVENT

END:VCALENDAR
