BEGIN:VCALENDAR
VERSION:2.0
PRODID:-//ChamberMaster//Event Calendar 2.0//EN
METHOD:PUBLISH
X-PUBLISHED-TTL:P3D
REFRESH-INTERVAL:P3D
CALSCALE:GREGORIAN
BEGIN:VEVENT
DTSTART:20150602T223000Z
DTEND:20150603T000000Z
X-MICROSOFT-CDO-ALLDAYEVENT:FALSE
SUMMARY:International Concierge Happy Hour- June 2
DESCRIPTION:Come join the International Concierge Committee.\n\n\n\nCash bar and appetizers provided.
X-ALT-DESC;FMTTYPE=text/html:Come join the International Concierge Committee.<br>\n<br>\nCash bar and appetizers provided.
LOCATION:Marcus Cafe 2701 Custer Parkway Richardson\, 75080
UID:e.9090.3126
SEQUENCE:3
DTSTAMP:20260423T071335Z
URL:https://business.techtitans.org/events/details/international-concierge-happy-hour-june-2-06-02-2015-3126
END:VEVENT

END:VCALENDAR
